BEGIN:VCALENDAR
VERSION:2.0
PRODID:-//Pacific Northwest Aquatic Monitoring Partnership - ECPv6.15.20//NONSGML v1.0//EN
CALSCALE:GREGORIAN
METHOD:PUBLISH
X-ORIGINAL-URL:https://pnamp.org
X-WR-CALDESC:Events for Pacific Northwest Aquatic Monitoring Partnership
REFRESH-INTERVAL;VALUE=DURATION:PT1H
X-Robots-Tag:noindex
X-PUBLISHED-TTL:PT1H
BEGIN:VTIMEZONE
TZID:America/Denver
BEGIN:DAYLIGHT
TZOFFSETFROM:-0700
TZOFFSETTO:-0600
TZNAME:MDT
DTSTART:20170312T090000
END:DAYLIGHT
BEGIN:STANDARD
TZOFFSETFROM:-0600
TZOFFSETTO:-0700
TZNAME:MST
DTSTART:20171105T080000
END:STANDARD
BEGIN:DAYLIGHT
TZOFFSETFROM:-0700
TZOFFSETTO:-0600
TZNAME:MDT
DTSTART:20180311T090000
END:DAYLIGHT
BEGIN:STANDARD
TZOFFSETFROM:-0600
TZOFFSETTO:-0700
TZNAME:MST
DTSTART:20181104T080000
END:STANDARD
BEGIN:DAYLIGHT
TZOFFSETFROM:-0700
TZOFFSETTO:-0600
TZNAME:MDT
DTSTART:20190310T090000
END:DAYLIGHT
BEGIN:STANDARD
TZOFFSETFROM:-0600
TZOFFSETTO:-0700
TZNAME:MST
DTSTART:20191103T080000
END:STANDARD
END:VTIMEZONE
BEGIN:VEVENT
DTSTART;TZID=America/Denver:20180222T090000
DTEND;TZID=America/Denver:20180222T160000
DTSTAMP:20260425T174238
CREATED:20240830T143850Z
LAST-MODIFIED:20240830T151225Z
UID:10000059-1519290000-1519315200@pnamp.org
SUMMARY:NOSA Steelhead Methods Review Workshop
DESCRIPTION:PNAMP Methods Review Workshop\nNatural Origin Spawner Abundance (NOSA) for Steelhead \nWorkshop Notes \nDate: Thursday\, February 22\, 2018 9:00 am – 4:00 pm \nLocation: GSA Building\, 911 NE 11th AVE\, Portland OR 97232 (Map)\, Conference Room C (Floor B1) \nAs part of PNAMP’s Methods Review Workshop Series\, this event is intended to facilitate information sharing and discussion of implementation of monitoring methods\, including field procedures and analytical methods. \nWorkshop Goals\nOur primary goal is to provide a venue for steelhead monitoring practitioners and managers to share their current approaches for estimating Natural Origin Spawner Abundance (NOSA) for steelhead populations. Presentation of experts’ latest work and subsequent discussion will lead to advancements across the community of practice. \nWho should attend?\nMonitoring practitioners and managers engaged in estimating and using Natural Origin Spawner Abundance (NOSA) estimates for steelhead populations. \nWhat will you get out of attending?\nYou will hear your colleagues’ best practices\, lessons learned\, and ideas for consideration. We expect these discussions will help point out agreements and inconsistencies related to methods and inform consideration of future methods. \nPresentations: \n\nWeir’d Science: Using Weirs to Estimate Adult Steelhead Abundance in Smaller Streams Ethan Crawford (WDFW)\nEstimating summer steelhead NOSA in Eastern Oregon: Redd surveys and probabilistic survey design Jim Ruzycki (ODFW)\nEstimating Steelhead Escapement in the Upper Columbia DPS Andrew Murdoch (WDFW)\nPIT-tag Based Abundance Estimation for Snake River Basin Steelhead Populations Ryan Kinzer (NPT)\nEstimating Steelhead Abundance at a Very Large Scale and Relation to Smaller Scales Tim Copeland (IDFG)\n\nFor more information\, contact Meg Dethloff\, mdethloff@usgs.gov.
URL:https://pnamp.org/event/nosa-steelhead-methods-review-workshop/
LOCATION:Portland\, Oregon
CATEGORIES:FMWG Event,PNAMP Event
END:VEVENT
END:VCALENDAR