BEGIN:VCALENDAR
VERSION:2.0
PRODID:-//Pacific Northwest Aquatic Monitoring Partnership - ECPv6.15.20//NONSGML v1.0//EN
CALSCALE:GREGORIAN
METHOD:PUBLISH
X-ORIGINAL-URL:https://pnamp.org
X-WR-CALDESC:Events for Pacific Northwest Aquatic Monitoring Partnership
REFRESH-INTERVAL;VALUE=DURATION:PT1H
X-Robots-Tag:noindex
X-PUBLISHED-TTL:PT1H
BEGIN:VTIMEZONE
TZID:America/Denver
BEGIN:DAYLIGHT
TZOFFSETFROM:-0700
TZOFFSETTO:-0600
TZNAME:MDT
DTSTART:20190310T090000
END:DAYLIGHT
BEGIN:STANDARD
TZOFFSETFROM:-0600
TZOFFSETTO:-0700
TZNAME:MST
DTSTART:20191103T080000
END:STANDARD
BEGIN:DAYLIGHT
TZOFFSETFROM:-0700
TZOFFSETTO:-0600
TZNAME:MDT
DTSTART:20200308T090000
END:DAYLIGHT
BEGIN:STANDARD
TZOFFSETFROM:-0600
TZOFFSETTO:-0700
TZNAME:MST
DTSTART:20201101T080000
END:STANDARD
BEGIN:DAYLIGHT
TZOFFSETFROM:-0700
TZOFFSETTO:-0600
TZNAME:MDT
DTSTART:20210314T090000
END:DAYLIGHT
BEGIN:STANDARD
TZOFFSETFROM:-0600
TZOFFSETTO:-0700
TZNAME:MST
DTSTART:20211107T080000
END:STANDARD
END:VTIMEZONE
BEGIN:VEVENT
DTSTART;TZID=America/Denver:20201006T080000
DTEND;TZID=America/Denver:20201020T170000
DTSTAMP:20260423T193816
CREATED:20240923T181532Z
LAST-MODIFIED:20240923T181532Z
UID:10000066-1601971200-1603213200@pnamp.org
SUMMARY:Aerial Monitoring of Aquatic Systems - ETIS 2020/21 Webinar Series
DESCRIPTION:Tuesday\, Oct 6\, 1:00-2:30pm Pacific (watch recording ) \n\nRichie Carmichael (Biomark) : Drone Assisted Stream Habitat (DASH) Protocol: Establishing consistency and compatibility between UAS monitoring programs\nSarah Hoffmann (Biomark) : Machine learning applications for conservation\n\nTuesday\, Oct 13\, 1:00-2:30pm Pacific (watch recording ) \n\nKain Kutz (USFS) : Mapping riparian habitat and geomorphology monitoring applications within the United States Forest Service (USFS) using unmanned aerial systems (UAS) acquired imagery\nLauren Burns (CRITFC) : Integrating unmanned aerial vehicles into large-scale habitat monitoring in the Columbia River Basin\n\nTuesday\, Oct 20\, 1:00-2:30pm Pacific (watch recording ) \n\nMischa Hey (Quantum Spatial) : Characterizing riverine fish habitat with bathymetric LiDAR\nPhil Roni (Cramer Fish Sciences) : Review of remote sensing and emerging technologies for use in evaluating floodplain and riparian projects
URL:https://pnamp.org/event/aerial-monitoring-of-aquatic-systems-etis-2020-21-webinar-series/
LOCATION:Virtual
CATEGORIES:ETIS Event
END:VEVENT
END:VCALENDAR