BEGIN:VCALENDAR
VERSION:2.0
PRODID:-//Pacific Northwest Aquatic Monitoring Partnership - ECPv6.15.20//NONSGML v1.0//EN
CALSCALE:GREGORIAN
METHOD:PUBLISH
X-ORIGINAL-URL:https://pnamp.org
X-WR-CALDESC:Events for Pacific Northwest Aquatic Monitoring Partnership
REFRESH-INTERVAL;VALUE=DURATION:PT1H
X-Robots-Tag:noindex
X-PUBLISHED-TTL:PT1H
BEGIN:VTIMEZONE
TZID:America/Denver
BEGIN:DAYLIGHT
TZOFFSETFROM:-0700
TZOFFSETTO:-0600
TZNAME:MDT
DTSTART:20200308T090000
END:DAYLIGHT
BEGIN:STANDARD
TZOFFSETFROM:-0600
TZOFFSETTO:-0700
TZNAME:MST
DTSTART:20201101T080000
END:STANDARD
BEGIN:DAYLIGHT
TZOFFSETFROM:-0700
TZOFFSETTO:-0600
TZNAME:MDT
DTSTART:20210314T090000
END:DAYLIGHT
BEGIN:STANDARD
TZOFFSETFROM:-0600
TZOFFSETTO:-0700
TZNAME:MST
DTSTART:20211107T080000
END:STANDARD
BEGIN:DAYLIGHT
TZOFFSETFROM:-0700
TZOFFSETTO:-0600
TZNAME:MDT
DTSTART:20220313T090000
END:DAYLIGHT
BEGIN:STANDARD
TZOFFSETFROM:-0600
TZOFFSETTO:-0700
TZNAME:MST
DTSTART:20221106T080000
END:STANDARD
END:VTIMEZONE
BEGIN:VEVENT
DTSTART;TZID=America/Denver:20210715T100000
DTEND;TZID=America/Denver:20210715T110000
DTSTAMP:20260423T072807
CREATED:20240829T192857Z
LAST-MODIFIED:20240829T192957Z
UID:10000058-1626343200-1626346800@pnamp.org
SUMMARY:PNAMP Fish Monitoring Work Group Meeting (July 2021)
DESCRIPTION:The PNAMP Fish Monitoring Work Group (FMWG)\, meets quarterly to update participants on current FMWG tasks\, share expertise through presentations on innovative fish monitoring\, and provides you with opportunities to engage regional managers and experts. These meetings are an opportune time to discuss tasks and get input from members on where they see importance or could use facilitated support. The FMWG is also interested in your work; if you would like to present your innovative fish monitoring ideas or any recent publications at a future meeting please contact Meg Dethloff\, mdethloff@usgs.gov \nTech Talk: WATCH RECORDING \nUsing temperature-sensing radio transmitters to evaluate water temperature use and migration success of adult sockeye salmon in the Yakima River\, Washington”  \nToby Kock is a research fish biologist at the USGS Columbia River Research Laboratory in Cook\, Washington. His research interests include the evaluation of dam passage and survival\, assessment of fish collection devices\, development of fish passage options at high-head dams\, reintroduction of salmon and steelhead to areas blocked by dams\, and effects of climate change on salmon ecology and dam management. He joined the USGS in 1998 and has since been working on fisheries studies focused on Pacific salmon and dams in the Pacific Northwest. His expertise includes the use of telemetry systems to monitor juvenile and adult salmon and steelhead. His presentation is on his current work in the Yakima River using temperature-sensing radio transmitters to evaluate water temperature use and migration success of adult sockeye salmon in the Yakima River. \nAgenda \n\n10:00 – Welcome and Introductions\n10:05 – Task Updates\n10:20 – Tech Talk\n11:10 – Q&A\n11:30 – Adjourn\n\nMissed a previous FMWG meeting? Check out our YouTube page for presentations or task meetings.
URL:https://pnamp.org/event/pnamp-fish-monitoring-work-group-meeting-jul2021/
LOCATION:Virtual
CATEGORIES:FMWG Event,PNAMP Event
END:VEVENT
END:VCALENDAR