BEGIN:VCALENDAR
VERSION:2.0
PRODID:-//Pacific Northwest Aquatic Monitoring Partnership - ECPv6.15.20//NONSGML v1.0//EN
CALSCALE:GREGORIAN
METHOD:PUBLISH
X-WR-CALNAME:Pacific Northwest Aquatic Monitoring Partnership
X-ORIGINAL-URL:https://pnamp.org
X-WR-CALDESC:Events for Pacific Northwest Aquatic Monitoring Partnership
REFRESH-INTERVAL;VALUE=DURATION:PT1H
X-Robots-Tag:noindex
X-PUBLISHED-TTL:PT1H
BEGIN:VTIMEZONE
TZID:America/Denver
BEGIN:DAYLIGHT
TZOFFSETFROM:-0700
TZOFFSETTO:-0600
TZNAME:MDT
DTSTART:20200308T090000
END:DAYLIGHT
BEGIN:STANDARD
TZOFFSETFROM:-0600
TZOFFSETTO:-0700
TZNAME:MST
DTSTART:20201101T080000
END:STANDARD
BEGIN:DAYLIGHT
TZOFFSETFROM:-0700
TZOFFSETTO:-0600
TZNAME:MDT
DTSTART:20210314T090000
END:DAYLIGHT
BEGIN:STANDARD
TZOFFSETFROM:-0600
TZOFFSETTO:-0700
TZNAME:MST
DTSTART:20211107T080000
END:STANDARD
BEGIN:DAYLIGHT
TZOFFSETFROM:-0700
TZOFFSETTO:-0600
TZNAME:MDT
DTSTART:20220313T090000
END:DAYLIGHT
BEGIN:STANDARD
TZOFFSETFROM:-0600
TZOFFSETTO:-0700
TZNAME:MST
DTSTART:20221106T080000
END:STANDARD
END:VTIMEZONE
BEGIN:VEVENT
DTSTART;VALUE=DATE:20211203
DTEND;VALUE=DATE:20211204
DTSTAMP:20260423T032148
CREATED:20240827T003637Z
LAST-MODIFIED:20240827T003857Z
UID:10000050-1638489600-1638575999@pnamp.org
SUMMARY:PNAMP IMW Management Applications Synthesis Workshops
DESCRIPTION:Read the Synthesis Report \n\nIntensively Monitored Watershed (IMW) programs have been active across the Pacific Northwest for over twenty years. These study systems represent one of the few opportunities to understand fish-habitat relationships at watershed scales and across multiple life cycles. This information is essential to salmon and steelhead conservation and recovery programs\, which annually invest millions of dollars in habitat projects and population and habitat monitoring. As IMW studies move into post-treatment monitoring phases\, preliminary take home messages can help natural resource managers\, policy makers\, and practitioners more effectively implement recovery and habitat programs\, as well as convey the benefits of long-term monitoring at a time when investments in salmon recovery are being reassessed at local\, state and federal levels. \nA small team of staff from the Pacific Northwest Aquatic Monitoring Partnership\, Snake River Salmon Recovery Board\, Lower Columbia Fish Recovery Board\, and the Washington Governor’s Salmon Recovery Office worked with IMW program leads from study systems across the Pacific Northwest to identify lessons learned to date\, and to recommend applications from the IMW programs to conservation and restoration work. Survey questions on targeted fish population responses\, restoration action types and anticipated watershed responses\, and management and policy outcomes were distributed in summer 2021 to individual IMW program leads. Survey responses were synthesized in October 2021. In winter 2021\, three workshops with IMW stakeholders were held to discuss synthesized survey responses and develop management application recommendations. Workshop outcomes were published and shared broadly in 2022; see link to report above.
URL:https://pnamp.org/event/pnamp-imw-management-applications-synthesis-workshops/
CATEGORIES:IMW Event,PNAMP Event
END:VEVENT
END:VCALENDAR