BEGIN:VCALENDAR
VERSION:2.0
PRODID:-//Pacific Northwest Aquatic Monitoring Partnership - ECPv6.15.20//NONSGML v1.0//EN
CALSCALE:GREGORIAN
METHOD:PUBLISH
X-ORIGINAL-URL:https://pnamp.org
X-WR-CALDESC:Events for Pacific Northwest Aquatic Monitoring Partnership
REFRESH-INTERVAL;VALUE=DURATION:PT1H
X-Robots-Tag:noindex
X-PUBLISHED-TTL:PT1H
BEGIN:VTIMEZONE
TZID:America/Denver
BEGIN:DAYLIGHT
TZOFFSETFROM:-0700
TZOFFSETTO:-0600
TZNAME:MDT
DTSTART:20210314T090000
END:DAYLIGHT
BEGIN:STANDARD
TZOFFSETFROM:-0600
TZOFFSETTO:-0700
TZNAME:MST
DTSTART:20211107T080000
END:STANDARD
BEGIN:DAYLIGHT
TZOFFSETFROM:-0700
TZOFFSETTO:-0600
TZNAME:MDT
DTSTART:20220313T090000
END:DAYLIGHT
BEGIN:STANDARD
TZOFFSETFROM:-0600
TZOFFSETTO:-0700
TZNAME:MST
DTSTART:20221106T080000
END:STANDARD
BEGIN:DAYLIGHT
TZOFFSETFROM:-0700
TZOFFSETTO:-0600
TZNAME:MDT
DTSTART:20230312T090000
END:DAYLIGHT
BEGIN:STANDARD
TZOFFSETFROM:-0600
TZOFFSETTO:-0700
TZNAME:MST
DTSTART:20231105T080000
END:STANDARD
END:VTIMEZONE
BEGIN:VEVENT
DTSTART;TZID=America/Denver:20220316T110000
DTEND;TZID=America/Denver:20220316T123000
DTSTAMP:20260422T210207
CREATED:20240814T200915Z
LAST-MODIFIED:20240814T203932Z
UID:10000026-1647428400-1647433800@pnamp.org
SUMMARY:PNAMP Remote Sensing Forum
DESCRIPTION:Watch the recording\nFeatured Presentations\nKurt D. Carpenter (USGS) Use of remote sensing to detect algae in rivers\, lakes\, and reservoirs\nDr. Emily Fairfax (CSUCI) Smokey the Beaver: how beaver dams keep riparian corridors green during droughts and wildfires
URL:https://pnamp.org/event/pnamp-remote-sensing-forum-4/
LOCATION:Virtual
CATEGORIES:PNAMP Event,RSF Event
END:VEVENT
END:VCALENDAR