BEGIN:VCALENDAR
VERSION:2.0
PRODID:-//Pacific Northwest Aquatic Monitoring Partnership - ECPv6.15.20//NONSGML v1.0//EN
CALSCALE:GREGORIAN
METHOD:PUBLISH
X-ORIGINAL-URL:https://pnamp.org
X-WR-CALDESC:Events for Pacific Northwest Aquatic Monitoring Partnership
REFRESH-INTERVAL;VALUE=DURATION:PT1H
X-Robots-Tag:noindex
X-PUBLISHED-TTL:PT1H
BEGIN:VTIMEZONE
TZID:America/Denver
BEGIN:DAYLIGHT
TZOFFSETFROM:-0700
TZOFFSETTO:-0600
TZNAME:MDT
DTSTART:20220313T090000
END:DAYLIGHT
BEGIN:STANDARD
TZOFFSETFROM:-0600
TZOFFSETTO:-0700
TZNAME:MST
DTSTART:20221106T080000
END:STANDARD
BEGIN:DAYLIGHT
TZOFFSETFROM:-0700
TZOFFSETTO:-0600
TZNAME:MDT
DTSTART:20230312T090000
END:DAYLIGHT
BEGIN:STANDARD
TZOFFSETFROM:-0600
TZOFFSETTO:-0700
TZNAME:MST
DTSTART:20231105T080000
END:STANDARD
BEGIN:DAYLIGHT
TZOFFSETFROM:-0700
TZOFFSETTO:-0600
TZNAME:MDT
DTSTART:20240310T090000
END:DAYLIGHT
BEGIN:STANDARD
TZOFFSETFROM:-0600
TZOFFSETTO:-0700
TZNAME:MST
DTSTART:20241103T080000
END:STANDARD
END:VTIMEZONE
BEGIN:VEVENT
DTSTART;TZID=America/Denver:20230420T100000
DTEND;TZID=America/Denver:20230420T113000
DTSTAMP:20260421T233104
CREATED:20240830T181620Z
LAST-MODIFIED:20240830T181715Z
UID:10000060-1681984800-1681990200@pnamp.org
SUMMARY:PNAMP Fish Monitoring Work Group Meeting (April 2023)
DESCRIPTION:The PNAMP Fish Monitoring Work Group (FMWG)\, meets quarterly to update participants on current FMWG tasks\, share expertise through presentations on innovative fish monitoring\, and provides you with opportunities to engage regional managers and experts. These meetings are an opportune time to discuss tasks and get input from members on where they see importance or could use facilitated support. The FMWG is also interested in your work; if you would like to present your innovative fish monitoring ideas or any recent publications at a future meeting please contact Meg Dethloff\, mdethloff@usgs.gov \nTech Talk: WATCH RECORDING \nIntegrated Population Modeling of Grande Ronde Spring Chinook Salmon: Linking Dynamics and Habitat to Monitoring Data via SSMs \nBen Staton\, a Quantitative Fisheries Scientist covered some integration modeling he does with Columbia River Inter-Tribal Fish Commission. Salmon populations in the Columbia River basin are monitored throughout their life cycle\, however many analyses that might inform policy decisions involve analyses of single or consecutive life stages. Taking this “separated” approach to life cycle analyses has several pros and cons\, but an important detriment is the hindrance of uncovering linkages\, correlations\, feedbacks\, and delayed effects among outcomes occurring at various scales. We developed an integrated statistical life cycle model for Grande Ronde spring Chinook salmon that simultaneously fits to multiple sources of information generated by routine monitoring programs including PIT tag-derived survival estimates\, screw trap passage estimates\, and adult return abundance. We simultaneously estimate the historical population dynamics of two juvenile life history strategies and two rearing origin types for each of four spawning populations. In doing so\, we have uncovered patterns of density-dependent growth and growth-mediated survival for freshwater juveniles\, as well as nontrivial correlations in process noise among populations at many life stages (i.e.\, better/poorer-than-expected years coincide among populations). Further\, the model estimates the effect of weighted usable habitat on parr rearing capacity\, which will be useful for modeling effects of habitat restoration. The presentation will give a high-level overview of the modeling framework\, the types of data it fits to\, the processes it attempts to capture\, and some preliminary findings. \nAgenda \n\n10:00 – Welcome and Introductions\n10:05 – Task Updates\n10:20 – Tech Talk\n11:10 – Q&A\n11:30 – Adjourn\n\nMissed a previous FMWG meeting? Check out our YouTube page for presentations or task meetings.
URL:https://pnamp.org/event/pnamp-fish-monitoring-work-group-meeting-apr2023/
LOCATION:Virtual
CATEGORIES:FMWG Event,PNAMP Event
END:VEVENT
END:VCALENDAR