BEGIN:VCALENDAR
VERSION:2.0
PRODID:-//Pacific Northwest Aquatic Monitoring Partnership - ECPv6.15.20//NONSGML v1.0//EN
CALSCALE:GREGORIAN
METHOD:PUBLISH
X-ORIGINAL-URL:https://pnamp.org
X-WR-CALDESC:Events for Pacific Northwest Aquatic Monitoring Partnership
REFRESH-INTERVAL;VALUE=DURATION:PT1H
X-Robots-Tag:noindex
X-PUBLISHED-TTL:PT1H
BEGIN:VTIMEZONE
TZID:America/Denver
BEGIN:DAYLIGHT
TZOFFSETFROM:-0700
TZOFFSETTO:-0600
TZNAME:MDT
DTSTART:20220313T090000
END:DAYLIGHT
BEGIN:STANDARD
TZOFFSETFROM:-0600
TZOFFSETTO:-0700
TZNAME:MST
DTSTART:20221106T080000
END:STANDARD
BEGIN:DAYLIGHT
TZOFFSETFROM:-0700
TZOFFSETTO:-0600
TZNAME:MDT
DTSTART:20230312T090000
END:DAYLIGHT
BEGIN:STANDARD
TZOFFSETFROM:-0600
TZOFFSETTO:-0700
TZNAME:MST
DTSTART:20231105T080000
END:STANDARD
BEGIN:DAYLIGHT
TZOFFSETFROM:-0700
TZOFFSETTO:-0600
TZNAME:MDT
DTSTART:20240310T090000
END:DAYLIGHT
BEGIN:STANDARD
TZOFFSETFROM:-0600
TZOFFSETTO:-0700
TZNAME:MST
DTSTART:20241103T080000
END:STANDARD
END:VTIMEZONE
BEGIN:VEVENT
DTSTART;TZID=America/Denver:20230926T103000
DTEND;TZID=America/Denver:20230926T123000
DTSTAMP:20260421T150803
CREATED:20240813T211242Z
LAST-MODIFIED:20240813T211355Z
UID:10000017-1695724200-1695731400@pnamp.org
SUMMARY:CRBRP Toxics Monitoring Subgroup Meeting
DESCRIPTION:Agenda\n10:30—10:40 AM\, Welcome and Introductions \n10:40—10:55 AM\, WQX 101 \n\nBrief overview\nOrientation to online resources\n\n10:55—11:20 AM\, CRB Toxics Monitoring Dashboard(s) \n\nBackground and initial ideas\nGet feedback on utility and potential features\n\n11:20—11:35 AM\, Ask the Audience \n\nTap into the collective knowledge of the group to see if we can help answer a TMS member’s question about how best to report on fish tissue toxicity data and criteria to measure it against\n\n11:35—12:20 PM\, Lightning Talks \n\nLake Chelan DDT Conceptual Site Model\, Clay Patmont (Anchor QEA)\nPFAS Monitoring at Public Water Systems in Washington State\, Stan Hoffman (WA DOH\, Office of Drinking Water)\nDevelopment of Tools to Site-specifically Monitor Exposure and Effects of Lead in the Tundra Swan\, Mark Jankowski (US EPA)\n\n  \nMicrosoft Teams\n\nClick here to join the meeting\nMeeting ID: 244 566 405 995\nPasscode: Bqn2Nx\n\n Or call in (audio only) \n\n+1 202-640-1187\nConference ID: 488 046 193#\nFind a local number | Learn More\n\n  \nSlido Q&A\n\nClick here to open Slido\nOr go to slido.com and enter code ToxMon
URL:https://pnamp.org/event/crbrp-toxics-monitoring-subgroup-meeting-4/
LOCATION:Virtual
CATEGORIES:CRBRP TMS Event,PNAMP Event
END:VEVENT
END:VCALENDAR