BEGIN:VCALENDAR
VERSION:2.0
PRODID:-//Pacific Northwest Aquatic Monitoring Partnership - ECPv6.15.20//NONSGML v1.0//EN
CALSCALE:GREGORIAN
METHOD:PUBLISH
X-ORIGINAL-URL:https://pnamp.org
X-WR-CALDESC:Events for Pacific Northwest Aquatic Monitoring Partnership
REFRESH-INTERVAL;VALUE=DURATION:PT1H
X-Robots-Tag:noindex
X-PUBLISHED-TTL:PT1H
BEGIN:VTIMEZONE
TZID:America/Denver
BEGIN:DAYLIGHT
TZOFFSETFROM:-0700
TZOFFSETTO:-0600
TZNAME:MDT
DTSTART:20220313T090000
END:DAYLIGHT
BEGIN:STANDARD
TZOFFSETFROM:-0600
TZOFFSETTO:-0700
TZNAME:MST
DTSTART:20221106T080000
END:STANDARD
BEGIN:DAYLIGHT
TZOFFSETFROM:-0700
TZOFFSETTO:-0600
TZNAME:MDT
DTSTART:20230312T090000
END:DAYLIGHT
BEGIN:STANDARD
TZOFFSETFROM:-0600
TZOFFSETTO:-0700
TZNAME:MST
DTSTART:20231105T080000
END:STANDARD
BEGIN:DAYLIGHT
TZOFFSETFROM:-0700
TZOFFSETTO:-0600
TZNAME:MDT
DTSTART:20240310T090000
END:DAYLIGHT
BEGIN:STANDARD
TZOFFSETFROM:-0600
TZOFFSETTO:-0700
TZNAME:MST
DTSTART:20241103T080000
END:STANDARD
END:VTIMEZONE
BEGIN:VEVENT
DTSTART;TZID=America/Denver:20231019T100000
DTEND;TZID=America/Denver:20231019T113000
DTSTAMP:20260421T150642
CREATED:20240826T214945Z
LAST-MODIFIED:20240830T193703Z
UID:10000048-1697709600-1697715000@pnamp.org
SUMMARY:Fish Monitoring Work Group Meeting (October 2023)
DESCRIPTION:The PNAMP Fish Monitoring Work Group (FMWG)\, meets quarterly to update participants on current FMWG tasks\, share expertise through presentations on innovative fish monitoring\, and provides you with opportunities to engage regional managers and experts. These meetings are an opportune time to discuss tasks and get input from members on where they see importance or could use facilitated support. The FMWG is also interested in your work; if you would like to present your innovative fish monitoring ideas or any recent publications at a future meeting please contact Meg Dethloff\, mdethloff@usgs.gov \nTech Talk: WATCH RECORDING \nAn Update on NOAA-F Stormwater Science in Puget Sound \nNat Scholz\, an Ecotoxicology Program Manager with NOAA Fisheries at their Northwest Fisheries Science Center\, presented his research on fish health contaminants in the region. This presentation will briefly review critical information gaps in the context of regional development\, increasing toxic runoff\, and associated conservation implications for Puget Sound salmon and marine forage fish. For recent publications on these and related topics\, see Google Scholar (link to publications). \nAgenda \n\n10:00 – Welcome and Introductions\n10:05 – Task Updates\n10:20 – Tech Talk\n11:10 – Q&A\n11:30 – Adjourn\n\nMissed a previous FMWG meeting? Check out our YouTube page for presentations or task meetings.
URL:https://pnamp.org/event/fish-monitoring-work-group-meeting-oct2023/
LOCATION:Virtual
CATEGORIES:FMWG Event,PNAMP Event
END:VEVENT
END:VCALENDAR