BEGIN:VCALENDAR
VERSION:2.0
PRODID:-//Pacific Northwest Aquatic Monitoring Partnership - ECPv6.15.20//NONSGML v1.0//EN
CALSCALE:GREGORIAN
METHOD:PUBLISH
X-ORIGINAL-URL:https://pnamp.org
X-WR-CALDESC:Events for Pacific Northwest Aquatic Monitoring Partnership
REFRESH-INTERVAL;VALUE=DURATION:PT1H
X-Robots-Tag:noindex
X-PUBLISHED-TTL:PT1H
BEGIN:VTIMEZONE
TZID:America/Denver
BEGIN:DAYLIGHT
TZOFFSETFROM:-0700
TZOFFSETTO:-0600
TZNAME:MDT
DTSTART:20220313T090000
END:DAYLIGHT
BEGIN:STANDARD
TZOFFSETFROM:-0600
TZOFFSETTO:-0700
TZNAME:MST
DTSTART:20221106T080000
END:STANDARD
BEGIN:DAYLIGHT
TZOFFSETFROM:-0700
TZOFFSETTO:-0600
TZNAME:MDT
DTSTART:20230312T090000
END:DAYLIGHT
BEGIN:STANDARD
TZOFFSETFROM:-0600
TZOFFSETTO:-0700
TZNAME:MST
DTSTART:20231105T080000
END:STANDARD
BEGIN:DAYLIGHT
TZOFFSETFROM:-0700
TZOFFSETTO:-0600
TZNAME:MDT
DTSTART:20240310T090000
END:DAYLIGHT
BEGIN:STANDARD
TZOFFSETFROM:-0600
TZOFFSETTO:-0700
TZNAME:MST
DTSTART:20241103T080000
END:STANDARD
END:VTIMEZONE
BEGIN:VEVENT
DTSTART;TZID=America/Denver:20231205T090000
DTEND;TZID=America/Denver:20231205T121500
DTSTAMP:20260421T123416
CREATED:20240813T212028Z
LAST-MODIFIED:20240813T212028Z
UID:10000018-1701766800-1701778500@pnamp.org
SUMMARY:CRBRP Toxics Monitoring Subgroup Workshop
DESCRIPTION:Agenda (Updated 12/1/2023)\n9:00-9:10 AM\, Welcome and Introductions \n9:10-9:15 AM\, Columbia River Basin Restoration Program Overview \n\nShort overview presentation of the Columbia River Basin Restoration Program by Michelle Wilcox (EPA)\n\n9:15-9:35 AM\, Toxics Monitoring Project Information Summary \n\nPresentation on Columbia River Basin (CRB) toxics monitoring project information by Patrick Moran (USGS)\n\n9:35-10:05 AM\, CRB Toxics Monitoring Dashboard \n\nReview of project tracking information dashboard prototype by Katia Rar (EPA) followed by participant feedback\n\n10:05-10:45 AM\, Methods Comparison \n\nReview of methods comparison analysis by Meghan Dunn (EPA) followed by group discussion of challenges and ideas for solutions\n\n10:45-11:00 AM\, Break \n11:00 AM-11:40 AM\, Identifying Needs and Building Synergy  \n\nGroup brainstorm and discussion of future monitoring program needs and potential areas of synergy\n\n11:40 AM-12:10 PM\, Monitoring Project Reporting  \n\nDiscussion about information and analyses TMS members would value seeing in monitoring project reports lead by Lisa Kusnierz (EPA)\n\n12:10-12:15 PM\, Help Shape ethe Future of TMS \n\nSurvey link will be shared to gather feedback on the first year of TMS meetings and how to improve going forward\n\n  \nMICROSOFT TEAMS\n\nClick here to join the meeting\nMeeting ID: 253 038 905 168\nPasscode: TLknvd\n\nOr call in (audio only) \n\n+1 202-640-1187\nConference ID: 639 176 893#\n\n  \nContact the TMS Core Team\, gs-crbtoxmon@usgs.gov\, if you have any questions or suggestions.
URL:https://pnamp.org/event/crbrp-toxics-monitoring-subgroup-workshop/
LOCATION:Virtual
CATEGORIES:CRBRP TMS Event,PNAMP Event
END:VEVENT
END:VCALENDAR