BEGIN:VCALENDAR
VERSION:2.0
PRODID:-//Pacific Northwest Aquatic Monitoring Partnership - ECPv6.15.20//NONSGML v1.0//EN
CALSCALE:GREGORIAN
METHOD:PUBLISH
X-WR-CALNAME:Pacific Northwest Aquatic Monitoring Partnership
X-ORIGINAL-URL:https://pnamp.org
X-WR-CALDESC:Events for Pacific Northwest Aquatic Monitoring Partnership
REFRESH-INTERVAL;VALUE=DURATION:PT1H
X-Robots-Tag:noindex
X-PUBLISHED-TTL:PT1H
BEGIN:VTIMEZONE
TZID:America/Los_Angeles
BEGIN:DAYLIGHT
TZOFFSETFROM:-0800
TZOFFSETTO:-0700
TZNAME:PDT
DTSTART:20240310T100000
END:DAYLIGHT
BEGIN:STANDARD
TZOFFSETFROM:-0700
TZOFFSETTO:-0800
TZNAME:PST
DTSTART:20241103T090000
END:STANDARD
BEGIN:DAYLIGHT
TZOFFSETFROM:-0800
TZOFFSETTO:-0700
TZNAME:PDT
DTSTART:20250309T100000
END:DAYLIGHT
BEGIN:STANDARD
TZOFFSETFROM:-0700
TZOFFSETTO:-0800
TZNAME:PST
DTSTART:20251102T090000
END:STANDARD
BEGIN:DAYLIGHT
TZOFFSETFROM:-0800
TZOFFSETTO:-0700
TZNAME:PDT
DTSTART:20260308T100000
END:DAYLIGHT
BEGIN:STANDARD
TZOFFSETFROM:-0700
TZOFFSETTO:-0800
TZNAME:PST
DTSTART:20261101T090000
END:STANDARD
END:VTIMEZONE
BEGIN:VEVENT
DTSTART;TZID=America/Los_Angeles:20250424T100000
DTEND;TZID=America/Los_Angeles:20250424T113000
DTSTAMP:20260421T014004
CREATED:20250313T173252Z
LAST-MODIFIED:20250425T183045Z
UID:10000087-1745488800-1745494200@pnamp.org
SUMMARY:Starting Your Journey with PIT Tag Data - FMWG PIT Tag Data & Analysis 2025 Webinar Series
DESCRIPTION:Watch the Recording \nLinks to resources shared during the presentations\n\nPTAGIS Tutorial Videos: https://www.ptagis.org/Resources/VideoLibrary?videoTutorials=Reporting%20Tutorial\nData Overview section in PTAGIS Data Specification: https://www.ptagis.org/content/DataSpecification/topics/data-overview.htm\nQuery section in PTAGIS Data Specification: https://www.ptagis.org/content/DataSpecification/topics/query.htm\nPTAGIS Frequently Asked Questions: https://www.ptagis.org/Faq\nExcel Handout: https://pnamp.org/wp-content/uploads/2025/04/FMWG_PIT_Workshop_Dobos_EXCEL_Handout_2025_04_24.docx\nExcel Exercise: https://pnamp.org/wp-content/uploads/2025/04/FMWG_PIT_Workshop_Dobos_EXCEL_Exercise_FINAL_2025_04_24.xlsx\n\n\nNew to the PIT tag data and analysis world or maybe you need a refresher? The PNAMP Fish Monitoring Work Group (FMWG) has got you covered! Join us for the first session in the FMWG PIT Tag & Data Analysis 2025 Webinar Series. \n\nUsing the PTAGIS advanced reporting system to query and download PIT tag data – Nicole Tancreto; Pacific States Marine Fisheries Commission/PTAGIS\nManaging PIT Tag Detection Data with Microsoft Excel – Marika Dobos; Idaho Department of Fish and Game\n\nEach session is approximately 90 minutes long; we will also host an optional 30-minute “office hours” after each session where participants can get more hands-on from the presenters. Note\, if there are no further questions during the “office hours”\, we will conclude the session. \nSee the FMWG 2025 Webinar Series Program V2 for presentation abstracts.
URL:https://pnamp.org/event/starting-your-journey-with-pit-tag-data-fmwg-pit-tag-data-analysis-2025-webinar-series/
LOCATION:Virtual
CATEGORIES:FMWG Event,PNAMP Event
END:VEVENT
END:VCALENDAR