BEGIN:VCALENDAR
VERSION:2.0
PRODID:-//Pacific Northwest Aquatic Monitoring Partnership - ECPv6.15.20//NONSGML v1.0//EN
CALSCALE:GREGORIAN
METHOD:PUBLISH
X-ORIGINAL-URL:https://pnamp.org
X-WR-CALDESC:Events for Pacific Northwest Aquatic Monitoring Partnership
REFRESH-INTERVAL;VALUE=DURATION:PT1H
X-Robots-Tag:noindex
X-PUBLISHED-TTL:PT1H
BEGIN:VTIMEZONE
TZID:America/Los_Angeles
BEGIN:DAYLIGHT
TZOFFSETFROM:-0800
TZOFFSETTO:-0700
TZNAME:PDT
DTSTART:20240310T100000
END:DAYLIGHT
BEGIN:STANDARD
TZOFFSETFROM:-0700
TZOFFSETTO:-0800
TZNAME:PST
DTSTART:20241103T090000
END:STANDARD
BEGIN:DAYLIGHT
TZOFFSETFROM:-0800
TZOFFSETTO:-0700
TZNAME:PDT
DTSTART:20250309T100000
END:DAYLIGHT
BEGIN:STANDARD
TZOFFSETFROM:-0700
TZOFFSETTO:-0800
TZNAME:PST
DTSTART:20251102T090000
END:STANDARD
BEGIN:DAYLIGHT
TZOFFSETFROM:-0800
TZOFFSETTO:-0700
TZNAME:PDT
DTSTART:20260308T100000
END:DAYLIGHT
BEGIN:STANDARD
TZOFFSETFROM:-0700
TZOFFSETTO:-0800
TZNAME:PST
DTSTART:20261101T090000
END:STANDARD
END:VTIMEZONE
BEGIN:VEVENT
DTSTART;VALUE=DATE:20250511
DTEND;VALUE=DATE:20250516
DTSTAMP:20260421T031533
CREATED:20250401T155003Z
LAST-MODIFIED:20250401T155003Z
UID:10000092-1746921600-1747353599@pnamp.org
SUMMARY:2025 AFS Western Division and Colorado-Wyoming Chapter Annual Meeting
DESCRIPTION:2025 AFS Western Division and Colorado-Wyoming Chapter Annual Meeting \nWebsite: 2025 Annual Meeting in Westminster\, Colorado – Western Division of the American Fisheries Society \nDates: May 11-15\, 2025 \nLocation: Westin Westminster in Westminster\, Colorado \nBuilding Resilience: Investments in Fish Passage\, Habitat Restoration\, and Hatchery Modernization \nThe American Fisheries Society’s Western Division and the Colorado-Wyoming Chapter are excited to host their annual meeting on May 11-15\, 2025 in Westminster\, Colorado. The meeting theme is “Building Resilience” to highlight the substantial investments\, such as the Bipartisan Infrastructure Act\, Inflation Reduction Act\, and other funding initiatives\, that are being allocated in the US and Canada to enhance fish passage and habitat restoration projects in an effort to increase resilience in fish populations and their ecosystems. Concurrently\, government agencies and private aquaculture are focusing on modernizing existing hatcheries and designing new facilities to withstand future climate challenges. The meeting will feature an exciting plenary and sessions related to the meeting theme\, and they also welcome sessions and contributed papers and posters that advance the fisheries profession. \nAbstracts can now be submitted for a live\, in-person presentation. They are accepting presentations on any topic (contributed papers and posters) and for approved symposia. Symposia descriptions are posted on the Symposia page.  More information on abstract submissions can be found on the Abstracts page.
URL:https://pnamp.org/event/2025-afs-western-division-and-colorado-wyoming-chapter-annual-meeting/
CATEGORIES:Non-PNAMP Event
END:VEVENT
END:VCALENDAR