BEGIN:VCALENDAR
VERSION:2.0
PRODID:-//Pacific Northwest Aquatic Monitoring Partnership - ECPv6.15.20//NONSGML v1.0//EN
CALSCALE:GREGORIAN
METHOD:PUBLISH
X-WR-CALNAME:Pacific Northwest Aquatic Monitoring Partnership
X-ORIGINAL-URL:https://pnamp.org
X-WR-CALDESC:Events for Pacific Northwest Aquatic Monitoring Partnership
REFRESH-INTERVAL;VALUE=DURATION:PT1H
X-Robots-Tag:noindex
X-PUBLISHED-TTL:PT1H
BEGIN:VTIMEZONE
TZID:America/Denver
BEGIN:DAYLIGHT
TZOFFSETFROM:-0700
TZOFFSETTO:-0600
TZNAME:MDT
DTSTART:20200308T090000
END:DAYLIGHT
BEGIN:STANDARD
TZOFFSETFROM:-0600
TZOFFSETTO:-0700
TZNAME:MST
DTSTART:20201101T080000
END:STANDARD
BEGIN:DAYLIGHT
TZOFFSETFROM:-0700
TZOFFSETTO:-0600
TZNAME:MDT
DTSTART:20210314T090000
END:DAYLIGHT
BEGIN:STANDARD
TZOFFSETFROM:-0600
TZOFFSETTO:-0700
TZNAME:MST
DTSTART:20211107T080000
END:STANDARD
BEGIN:DAYLIGHT
TZOFFSETFROM:-0700
TZOFFSETTO:-0600
TZNAME:MDT
DTSTART:20220313T090000
END:DAYLIGHT
BEGIN:STANDARD
TZOFFSETFROM:-0600
TZOFFSETTO:-0700
TZNAME:MST
DTSTART:20221106T080000
END:STANDARD
END:VTIMEZONE
BEGIN:VEVENT
DTSTART;TZID=America/Denver:20210316T123000
DTEND;TZID=America/Denver:20210316T140000
DTSTAMP:20260423T000622
CREATED:20240814T192052Z
LAST-MODIFIED:20240814T195036Z
UID:10000022-1615897800-1615903200@pnamp.org
SUMMARY:PNAMP Remote Sensing Forum Reboot
DESCRIPTION:Watch the recording \nThe Pacific Northwest Aquatic Monitoring Partnership (PNAMP) is excited to announce we are restarting the Remote Sensing Forum! The intent of the forum is to support individuals and entities (e.g.\, federal\, state\, tribal\, nonprofit\, etc.) with equitable opportunities to learn and advance the use of remote sensing technologies and data for the research and management of aquatic ecosystems. Join us for our first meeting to learn more about what we’re planning and let us know what your remote sensing interests are. \nMeeting Objectives \n\nDescribe the purpose and goals of the PNAMP Remote Sensing Forum\nIntroduce the Remote Sensing Forum Organizing Committee\nDescribe forum activities planned for the first year\nSeek feedback on the prioritization of the topics we might want to tackle\n\nWho Should Participate in the Remote Sensing Forum? \n\nAnyone interested in exchanging information and exploring best practices for remote sensing methods and data analysis for aquatic ecosystems. We are striving for a diverse mix of minds\, backgrounds and experience\, and we are committed to cultivating an inclusive environment.\n\nQuestions?  \nContact Amy Puls (apuls@usgs.gov) and Lauren Burns (burl@critfc.org)
URL:https://pnamp.org/event/pnamp-remote-sensing-forum-reboot/
LOCATION:Virtual
CATEGORIES:PNAMP Event,RSF Event
END:VEVENT
END:VCALENDAR