BEGIN:VCALENDAR
VERSION:2.0
PRODID:-//Pacific Northwest Aquatic Monitoring Partnership - ECPv6.15.20//NONSGML v1.0//EN
CALSCALE:GREGORIAN
METHOD:PUBLISH
X-WR-CALNAME:Pacific Northwest Aquatic Monitoring Partnership
X-ORIGINAL-URL:https://pnamp.org
X-WR-CALDESC:Events for Pacific Northwest Aquatic Monitoring Partnership
REFRESH-INTERVAL;VALUE=DURATION:PT1H
X-Robots-Tag:noindex
X-PUBLISHED-TTL:PT1H
BEGIN:VTIMEZONE
TZID:America/Denver
BEGIN:DAYLIGHT
TZOFFSETFROM:-0700
TZOFFSETTO:-0600
TZNAME:MDT
DTSTART:20170312T090000
END:DAYLIGHT
BEGIN:STANDARD
TZOFFSETFROM:-0600
TZOFFSETTO:-0700
TZNAME:MST
DTSTART:20171105T080000
END:STANDARD
BEGIN:DAYLIGHT
TZOFFSETFROM:-0700
TZOFFSETTO:-0600
TZNAME:MDT
DTSTART:20180311T090000
END:DAYLIGHT
BEGIN:STANDARD
TZOFFSETFROM:-0600
TZOFFSETTO:-0700
TZNAME:MST
DTSTART:20181104T080000
END:STANDARD
BEGIN:DAYLIGHT
TZOFFSETFROM:-0700
TZOFFSETTO:-0600
TZNAME:MDT
DTSTART:20190310T090000
END:DAYLIGHT
BEGIN:STANDARD
TZOFFSETFROM:-0600
TZOFFSETTO:-0700
TZNAME:MST
DTSTART:20191103T080000
END:STANDARD
END:VTIMEZONE
BEGIN:VEVENT
DTSTART;TZID=America/Denver:20181101T080000
DTEND;TZID=America/Denver:20181102T170000
DTSTAMP:20260425T052124
CREATED:20240826T213910Z
LAST-MODIFIED:20240826T214409Z
UID:10000047-1541059200-1541178000@pnamp.org
SUMMARY:PNAMP 2018 Intensively Monitored Watersheds (IMW) Workshop
DESCRIPTION:Watch the Presentation Recordings \nIf you’re interested in the other workshop materials (agenda\, handouts\, slide decks\, etc.)\, contact us at gs-pnamp_contact@usgs.gov. \n\nThe Pacific Northwest Aquatic Monitoring Partnership (PNAMP) is hosting a workshop to support learning and information exchange among Intensively Monitored Watershed (IMW) stakeholders and discuss priorities for implementing the IMW network going forward. The two-day workshop will feature presentations of recent results and lessons learned from Pacific Northwest IMWs\, offer insights into how well the IMW network is answering key management questions\, and use breakout sessions to strategize for future success. We hope you can join us! \nWorkshop Objectives \n\nShare latest IMW results and lessons learned\nDiscuss priorities for IMW network implementation and adaptive management\nContinue work to improve communication of IMW results to diverse audiences
URL:https://pnamp.org/event/pnamp-2018-intensively-monitored-watersheds-workshop/
END:VEVENT
END:VCALENDAR