BEGIN:VCALENDAR
VERSION:2.0
PRODID:-//Pacific Northwest Aquatic Monitoring Partnership - ECPv6.15.20//NONSGML v1.0//EN
CALSCALE:GREGORIAN
METHOD:PUBLISH
X-WR-CALNAME:Pacific Northwest Aquatic Monitoring Partnership
X-ORIGINAL-URL:https://pnamp.org
X-WR-CALDESC:Events for Pacific Northwest Aquatic Monitoring Partnership
REFRESH-INTERVAL;VALUE=DURATION:PT1H
X-Robots-Tag:noindex
X-PUBLISHED-TTL:PT1H
BEGIN:VTIMEZONE
TZID:America/Denver
BEGIN:DAYLIGHT
TZOFFSETFROM:-0700
TZOFFSETTO:-0600
TZNAME:MDT
DTSTART:20180311T090000
END:DAYLIGHT
BEGIN:STANDARD
TZOFFSETFROM:-0600
TZOFFSETTO:-0700
TZNAME:MST
DTSTART:20181104T080000
END:STANDARD
BEGIN:DAYLIGHT
TZOFFSETFROM:-0700
TZOFFSETTO:-0600
TZNAME:MDT
DTSTART:20190310T090000
END:DAYLIGHT
BEGIN:STANDARD
TZOFFSETFROM:-0600
TZOFFSETTO:-0700
TZNAME:MST
DTSTART:20191103T080000
END:STANDARD
BEGIN:DAYLIGHT
TZOFFSETFROM:-0700
TZOFFSETTO:-0600
TZNAME:MDT
DTSTART:20200308T090000
END:DAYLIGHT
BEGIN:STANDARD
TZOFFSETFROM:-0600
TZOFFSETTO:-0700
TZNAME:MST
DTSTART:20201101T080000
END:STANDARD
END:VTIMEZONE
BEGIN:VEVENT
DTSTART;TZID=America/Denver:20191106T123000
DTEND;TZID=America/Denver:20191107T173000
DTSTAMP:20260424T085516
CREATED:20240830T203741Z
LAST-MODIFIED:20240830T204026Z
UID:10000062-1573043400-1573147800@pnamp.org
SUMMARY:Smolt Estimation and Analytics Workshop
DESCRIPTION:Smolt Estimation and Analytics Workshop \nNovember 6-7\, 2019 at Walla Walla Community College \nSmolt Estimation and Analytics Workshop Notes \nA workshop to share\, discuss\, and recommend best practices for smolt abundance estimation and related analyses. \nWho should attend?  Researchers and data analysts who generate smolt estimates or create analytical models for smolt data. Goals are to share information\, compare and discuss statistical practices\, and recommend further collaboration to develop interoperable data outputs and common analytical tools for smolt data. Representative sessions: \nPlenary Session\nAn overview of the uses of data from smolt trapping and a history of smolt trapping in the Pacific Northwest. \nNuts and Bolts of Smolt Trapping\nData collection\, protocols and methods as they relate to use of the data for analysis.\nA synthesis of the results of a region-wide survey. \nEstimation and Analytics\nPresentations by peers and statistical experts to address best practices for conducting analyses of smolt abundance\, with consideration of statistical assumptions\, population representation\, gaps in data\, environmental covariates\, impacts of life history variations\, and estimating abundance at points downstream. \nData Management for Juvenile Out-migrants and Connections to Coordinated Assessments\nEnsuring comparability for smolt abundance estimates across the Columbia Basin and understanding terminology and scale of various estimates being presented and used in the region. \nFor more information please contact Jen Bayer jbayer@usgs.gov
URL:https://pnamp.org/event/smolt-estimation-and-analytics-workshop/
LOCATION:Walla Walla Community College
END:VEVENT
END:VCALENDAR