BEGIN:VCALENDAR
VERSION:2.0
PRODID:-//Pacific Northwest Aquatic Monitoring Partnership - ECPv6.15.20//NONSGML v1.0//EN
CALSCALE:GREGORIAN
METHOD:PUBLISH
X-WR-CALNAME:Pacific Northwest Aquatic Monitoring Partnership
X-ORIGINAL-URL:https://pnamp.org
X-WR-CALDESC:Events for Pacific Northwest Aquatic Monitoring Partnership
REFRESH-INTERVAL;VALUE=DURATION:PT1H
X-Robots-Tag:noindex
X-PUBLISHED-TTL:PT1H
BEGIN:VTIMEZONE
TZID:America/Denver
BEGIN:DAYLIGHT
TZOFFSETFROM:-0700
TZOFFSETTO:-0600
TZNAME:MDT
DTSTART:20190310T090000
END:DAYLIGHT
BEGIN:STANDARD
TZOFFSETFROM:-0600
TZOFFSETTO:-0700
TZNAME:MST
DTSTART:20191103T080000
END:STANDARD
BEGIN:DAYLIGHT
TZOFFSETFROM:-0700
TZOFFSETTO:-0600
TZNAME:MDT
DTSTART:20200308T090000
END:DAYLIGHT
BEGIN:STANDARD
TZOFFSETFROM:-0600
TZOFFSETTO:-0700
TZNAME:MST
DTSTART:20201101T080000
END:STANDARD
BEGIN:DAYLIGHT
TZOFFSETFROM:-0700
TZOFFSETTO:-0600
TZNAME:MDT
DTSTART:20210314T090000
END:DAYLIGHT
BEGIN:STANDARD
TZOFFSETFROM:-0600
TZOFFSETTO:-0700
TZNAME:MST
DTSTART:20211107T080000
END:STANDARD
END:VTIMEZONE
BEGIN:VEVENT
DTSTART;TZID=America/Denver:20201103T080000
DTEND;TZID=America/Denver:20201117T170000
DTSTAMP:20260423T172012
CREATED:20240923T181023Z
LAST-MODIFIED:20240923T181023Z
UID:10000065-1604390400-1605632400@pnamp.org
SUMMARY:eDNA Session - ETIS 2020/21 Webinar Series
DESCRIPTION:Tuesday\, Nov 3\, 1:00-2:30pm Pacific (watch recording ) \n\nDavid Pilliod and Matthew Laramie (USGS) : eDNA 101: Overview of sampling and extraction methods for environmental DNA\n\nTuesday\, Nov 10\, 1:00-2:30pm Pacific (watch recording ) \n\nCarl Ostberg (USGS) : eDNA 201: Using environmental DNA for single-species assessments\n\nTuesday\, Nov 17\, 1:00-2:30pm Pacific (watch recording ) \n\nTaylor Wilcox (National Genomics Center for Wildlife and Fish Conservation) : eDNA 301: Multi-species and biodiversity assessments\, focusing on laboratory procedures and interpretation of results including challenges and future directions
URL:https://pnamp.org/event/edna-session-etis-2020-21-webinar-series/
LOCATION:Virtual
CATEGORIES:ETIS Event
END:VEVENT
END:VCALENDAR