BEGIN:VCALENDAR
VERSION:2.0
PRODID:-//Pacific Northwest Aquatic Monitoring Partnership - ECPv6.15.20//NONSGML v1.0//EN
CALSCALE:GREGORIAN
METHOD:PUBLISH
X-ORIGINAL-URL:https://pnamp.org
X-WR-CALDESC:Events for Pacific Northwest Aquatic Monitoring Partnership
REFRESH-INTERVAL;VALUE=DURATION:PT1H
X-Robots-Tag:noindex
X-PUBLISHED-TTL:PT1H
BEGIN:VTIMEZONE
TZID:America/Denver
BEGIN:DAYLIGHT
TZOFFSETFROM:-0700
TZOFFSETTO:-0600
TZNAME:MDT
DTSTART:20200308T090000
END:DAYLIGHT
BEGIN:STANDARD
TZOFFSETFROM:-0600
TZOFFSETTO:-0700
TZNAME:MST
DTSTART:20201101T080000
END:STANDARD
BEGIN:DAYLIGHT
TZOFFSETFROM:-0700
TZOFFSETTO:-0600
TZNAME:MDT
DTSTART:20210314T090000
END:DAYLIGHT
BEGIN:STANDARD
TZOFFSETFROM:-0600
TZOFFSETTO:-0700
TZNAME:MST
DTSTART:20211107T080000
END:STANDARD
BEGIN:DAYLIGHT
TZOFFSETFROM:-0700
TZOFFSETTO:-0600
TZNAME:MDT
DTSTART:20220313T090000
END:DAYLIGHT
BEGIN:STANDARD
TZOFFSETFROM:-0600
TZOFFSETTO:-0700
TZNAME:MST
DTSTART:20221106T080000
END:STANDARD
END:VTIMEZONE
BEGIN:VEVENT
DTSTART;TZID=America/Denver:20210211T080000
DTEND;TZID=America/Denver:20210225T170000
DTSTAMP:20260423T125553
CREATED:20240923T175028Z
LAST-MODIFIED:20240923T180214Z
UID:10000063-1613030400-1614272400@pnamp.org
SUMMARY:Data Management Session - ETIS 2020/21 Webinar Series
DESCRIPTION:Thursday\, Feb 11\, 1:00-2:30pm Pacific  (watch recording ) \n\nAmanda Whitmire (Stanford University) : The basics of data management plans for research\nStacy Schumacher (Confederated Tribes of the Umatilla Indian Reservation) : The Centralized Data Management System used by the Confederated Tribes of the Umatilla Indian Reservation for the storage of fisheries data\n\nThursday\, Feb 18\, 1:00-2:30pm Pacific  (watch recording ) \n\nKevin D. Henry and Jeff Peters (USGS) : Data visualization tools and frameworks for hazards and risk research\nBrendan Ward (Astute Spruce\, LLC) : Using open-source technologies to build spatial web apps\n\nThursday\, Feb 25\, 1:00-2:30pm Pacific  (watch recording ) \n\nTami Wilkerson (Columbia Basin Fish & Wildlife Library/CRITFC) : Tools and best practices for data sharing and reuse to advance research\nPatricia Soranno (Michigan State University) : The ethics of data sharing in the environmental sciences
URL:https://pnamp.org/event/data-management-session-etis-webinar-series/
LOCATION:Virtual
CATEGORIES:ETIS Event
END:VEVENT
BEGIN:VEVENT
DTSTART;TZID=America/Denver:20210211T100000
DTEND;TZID=America/Denver:20210211T113000
DTSTAMP:20260423T125553
CREATED:20240828T204133Z
LAST-MODIFIED:20240829T142241Z
UID:10000056-1613037600-1613043000@pnamp.org
SUMMARY:Fish Monitoring Work Group Meeting (February 2021)
DESCRIPTION:The PNAMP Fish Monitoring Work Group (FMWG)\, meets quarterly to update participants on current FMWG tasks\, share expertise through presentations on innovative fish monitoring\, and provides you with opportunities to engage regional managers and experts. These meetings are an opportune time to discuss tasks and get input from members on where they see importance or could use facilitated support. The FMWG is also interested in your work; if you would like to present your innovative fish monitoring ideas or any recent publications at a future meeting please contact Meg Dethloff\, mdethloff@usgs.gov \nNOTES from this meeting \nAgenda: \n\nIntroduce the purpose and objectives of the FMWG\nReview past input and begin to prioritize ideas for tasks\nIntroduce the FMWG Core Team and invite more participation in this team (which helps to organize the work group)\nProvide opportunity to discuss the future direction of the FMWG\, including how we can support fish monitoring practitioners and also the needs of the Coordinated Assessments Partnership and the CAX Data Exchange\nReview recent input regarding with Coordinated Assessment Data Exchange Standards (DES) document\n\nMissed a previous FMWG meeting? Check out our YouTube page for presentations or task meetings.
URL:https://pnamp.org/event/fish-monitoring-work-group-meeting-feb2021/
LOCATION:Virtual
CATEGORIES:FMWG Event,PNAMP Event
END:VEVENT
END:VCALENDAR