BEGIN:VCALENDAR
VERSION:2.0
PRODID:-//Pacific Northwest Aquatic Monitoring Partnership - ECPv6.15.20//NONSGML v1.0//EN
CALSCALE:GREGORIAN
METHOD:PUBLISH
X-WR-CALNAME:Pacific Northwest Aquatic Monitoring Partnership
X-ORIGINAL-URL:https://pnamp.org
X-WR-CALDESC:Events for Pacific Northwest Aquatic Monitoring Partnership
REFRESH-INTERVAL;VALUE=DURATION:PT1H
X-Robots-Tag:noindex
X-PUBLISHED-TTL:PT1H
BEGIN:VTIMEZONE
TZID:America/Denver
BEGIN:DAYLIGHT
TZOFFSETFROM:-0700
TZOFFSETTO:-0600
TZNAME:MDT
DTSTART:20200308T090000
END:DAYLIGHT
BEGIN:STANDARD
TZOFFSETFROM:-0600
TZOFFSETTO:-0700
TZNAME:MST
DTSTART:20201101T080000
END:STANDARD
BEGIN:DAYLIGHT
TZOFFSETFROM:-0700
TZOFFSETTO:-0600
TZNAME:MDT
DTSTART:20210314T090000
END:DAYLIGHT
BEGIN:STANDARD
TZOFFSETFROM:-0600
TZOFFSETTO:-0700
TZNAME:MST
DTSTART:20211107T080000
END:STANDARD
BEGIN:DAYLIGHT
TZOFFSETFROM:-0700
TZOFFSETTO:-0600
TZNAME:MDT
DTSTART:20220313T090000
END:DAYLIGHT
BEGIN:STANDARD
TZOFFSETFROM:-0600
TZOFFSETTO:-0700
TZNAME:MST
DTSTART:20221106T080000
END:STANDARD
END:VTIMEZONE
BEGIN:VEVENT
DTSTART;TZID=America/Denver:20211005T093000
DTEND;TZID=America/Denver:20211005T110000
DTSTAMP:20260423T032152
CREATED:20240814T194929Z
LAST-MODIFIED:20240814T203838Z
UID:10000024-1633426200-1633431600@pnamp.org
SUMMARY:PNAMP Remote Sensing Forum
DESCRIPTION:Watch the recording\nFeatured Presentations\nMatt Barker (OSU): Estimating 2-dimensional area of coarse woody material from UAS imagery\nWyatt McCurdy (USFS Contractor): Remote sensing methods for monitoring Stage 0 restoration metrics on Whychus Creek using high-resolution imagery 
URL:https://pnamp.org/event/pnamp-remote-sensing-forum-2/
LOCATION:Virtual
CATEGORIES:PNAMP Event,RSF Event
END:VEVENT
BEGIN:VEVENT
DTSTART;TZID=America/Denver:20211021T100000
DTEND;TZID=America/Denver:20211021T113000
DTSTAMP:20260423T032152
CREATED:20240828T203730Z
LAST-MODIFIED:20240829T205754Z
UID:10000055-1634810400-1634815800@pnamp.org
SUMMARY:Fish Monitoring Work Group Meeting (October 2021)
DESCRIPTION:The PNAMP Fish Monitoring Work Group (FMWG)\, meets quarterly to update participants on current FMWG tasks\, share expertise through presentations on innovative fish monitoring\, and provides you with opportunities to engage regional managers and experts. These meetings are an opportune time to discuss tasks and get input from members on where they see importance or could use facilitated support. The FMWG is also interested in your work; if you would like to present your innovative fish monitoring ideas or any recent publications at a future meeting please contact Meg Dethloff\, mdethloff@usgs.gov \nTech Talk: WATCH RECORDING \n“An overview of WDFW’s State of Salmon (SoS) analysis 2020” \nNeala Kendall and Thomas Buhrens of Washington Department of Fish and Wildlife will present an overview of the 2020 State of the Salmon report. The report provides information on the achievements and challenges\, statewide and regionally. and progress in Washington State. Join us to learn about the state of salmon in watersheds. Visit the State of Salmon in Watersheds site for more information. \nAgenda \n\n10:00 – Welcome and Introductions\n10:05 – Task Updates\n10:20 – Tech Talk\n11:10 – Q&A\n11:30 – Adjourn\n\nMissed a previous FMWG meeting? Check out our YouTube page for presentations or task meetings.
URL:https://pnamp.org/event/fish-monitoring-work-group-meeting-oct2021/
LOCATION:Virtual
CATEGORIES:FMWG Event,PNAMP Event
END:VEVENT
END:VCALENDAR