BEGIN:VCALENDAR
VERSION:2.0
PRODID:-//Pacific Northwest Aquatic Monitoring Partnership - ECPv6.15.20//NONSGML v1.0//EN
CALSCALE:GREGORIAN
METHOD:PUBLISH
X-ORIGINAL-URL:https://pnamp.org
X-WR-CALDESC:Events for Pacific Northwest Aquatic Monitoring Partnership
REFRESH-INTERVAL;VALUE=DURATION:PT1H
X-Robots-Tag:noindex
X-PUBLISHED-TTL:PT1H
BEGIN:VTIMEZONE
TZID:America/Denver
BEGIN:DAYLIGHT
TZOFFSETFROM:-0700
TZOFFSETTO:-0600
TZNAME:MDT
DTSTART:20210314T090000
END:DAYLIGHT
BEGIN:STANDARD
TZOFFSETFROM:-0600
TZOFFSETTO:-0700
TZNAME:MST
DTSTART:20211107T080000
END:STANDARD
BEGIN:DAYLIGHT
TZOFFSETFROM:-0700
TZOFFSETTO:-0600
TZNAME:MDT
DTSTART:20220313T090000
END:DAYLIGHT
BEGIN:STANDARD
TZOFFSETFROM:-0600
TZOFFSETTO:-0700
TZNAME:MST
DTSTART:20221106T080000
END:STANDARD
BEGIN:DAYLIGHT
TZOFFSETFROM:-0700
TZOFFSETTO:-0600
TZNAME:MDT
DTSTART:20230312T090000
END:DAYLIGHT
BEGIN:STANDARD
TZOFFSETFROM:-0600
TZOFFSETTO:-0700
TZNAME:MST
DTSTART:20231105T080000
END:STANDARD
END:VTIMEZONE
BEGIN:VEVENT
DTSTART;TZID=America/Denver:20221019T130000
DTEND;TZID=America/Denver:20221019T143000
DTSTAMP:20260422T094133
CREATED:20240816T211858Z
LAST-MODIFIED:20240816T211903Z
UID:10000034-1666184400-1666189800@pnamp.org
SUMMARY:Stream Habitat Metric Integration Project Team Meeting
DESCRIPTION:Project Team Meeting. For more information\, please contact Jen Bayer jbayer@usgs.gov.
URL:https://pnamp.org/event/stream-habitat-metric-integration-project-team-meeting/
LOCATION:Virtual
CATEGORIES:PNAMP Event,SHMI Event
END:VEVENT
BEGIN:VEVENT
DTSTART;TZID=America/Denver:20221020T100000
DTEND;TZID=America/Denver:20221020T113000
DTSTAMP:20260422T094133
CREATED:20240827T011106Z
LAST-MODIFIED:20240830T180642Z
UID:10000053-1666260000-1666265400@pnamp.org
SUMMARY:PNAMP Fish Monitoring Work Group Meeting (October 2022)
DESCRIPTION:The PNAMP Fish Monitoring Work Group (FMWG)\, meets quarterly to update participants on current FMWG tasks\, share expertise through presentations on innovative fish monitoring\, and provides you with opportunities to engage regional managers and experts. These meetings are an opportune time to discuss tasks and get input from members on where they see importance or could use facilitated support. The FMWG is also interested in your work; if you would like to present your innovative fish monitoring ideas or any recent publications at a future meeting please contact Meg Dethloff\, mdethloff@usgs.gov \nMeeting: WATCH RECORDING \nInstead of having a tech talk during this meeting\, we covered the past 2 years of the PNAMP Fish Monitoring Work Group progress and planning for future work. We discussed completed tasks and their products or actions that were taken from the tasks\, and then we covered task still in progress and expected outcomes. Planning for the new PIT Tag Array Data and Related Analyses Task has begun. Marika Dobos (IDFG) and Russell Scranton (BPA) are part of the leadership team and introduced the task and led a discussion on what products they are proposing to accomplish. Gabriel Brooks (NOAA\, PTAGIS IPTDS Subcommittee) gave an overview of the charter and goals of the subcommittee. \nAgenda \n\n10:00 – Welcome and Introductions\n10:05 – FMWG Background\n10:20 – Task Team Updates (completed and in progress tasks)\n11:10 – PIT Tag Array Data and Related Analyses introduction and discussion\n11:30 – Adjourn\n\nMissed a previous FMWG meeting? Check out our YouTube page for presentations or task meetings.
URL:https://pnamp.org/event/fish-monitoring-work-group-meeting-oct2022/
LOCATION:Virtual
CATEGORIES:FMWG Event,PNAMP Event
END:VEVENT
END:VCALENDAR