BEGIN:VCALENDAR
VERSION:2.0
PRODID:-//Pacific Northwest Aquatic Monitoring Partnership - ECPv6.15.20//NONSGML v1.0//EN
CALSCALE:GREGORIAN
METHOD:PUBLISH
X-WR-CALNAME:Pacific Northwest Aquatic Monitoring Partnership
X-ORIGINAL-URL:https://pnamp.org
X-WR-CALDESC:Events for Pacific Northwest Aquatic Monitoring Partnership
REFRESH-INTERVAL;VALUE=DURATION:PT1H
X-Robots-Tag:noindex
X-PUBLISHED-TTL:PT1H
BEGIN:VTIMEZONE
TZID:America/Denver
BEGIN:DAYLIGHT
TZOFFSETFROM:-0700
TZOFFSETTO:-0600
TZNAME:MDT
DTSTART:20220313T090000
END:DAYLIGHT
BEGIN:STANDARD
TZOFFSETFROM:-0600
TZOFFSETTO:-0700
TZNAME:MST
DTSTART:20221106T080000
END:STANDARD
BEGIN:DAYLIGHT
TZOFFSETFROM:-0700
TZOFFSETTO:-0600
TZNAME:MDT
DTSTART:20230312T090000
END:DAYLIGHT
BEGIN:STANDARD
TZOFFSETFROM:-0600
TZOFFSETTO:-0700
TZNAME:MST
DTSTART:20231105T080000
END:STANDARD
BEGIN:DAYLIGHT
TZOFFSETFROM:-0700
TZOFFSETTO:-0600
TZNAME:MDT
DTSTART:20240310T090000
END:DAYLIGHT
BEGIN:STANDARD
TZOFFSETFROM:-0600
TZOFFSETTO:-0700
TZNAME:MST
DTSTART:20241103T080000
END:STANDARD
END:VTIMEZONE
BEGIN:VEVENT
DTSTART;TZID=America/Denver:20230119T100000
DTEND;TZID=America/Denver:20230119T113000
DTSTAMP:20260422T034354
CREATED:20240815T142025Z
LAST-MODIFIED:20240830T180852Z
UID:10000029-1674122400-1674127800@pnamp.org
SUMMARY:PNAMP Fish Monitoring Work Group Meeting (January 2023)
DESCRIPTION:The PNAMP Fish Monitoring Work Group (FMWG)\, meets quarterly to update participants on current FMWG tasks\, share expertise through presentations on innovative fish monitoring\, and provides you with opportunities to engage regional managers and experts. These meetings are an opportune time to discuss tasks and get input from members on where they see importance or could use facilitated support. The FMWG is also interested in your work; if you would like to present your innovative fish monitoring ideas or any recent publications at a future meeting please contact Meg Dethloff\, mdethloff@usgs.gov \nTech Talk: WATCH RECORDING \nPIThy: PTAGIS for the Unwashed Masses \nBrian Maschhoff with Salmonetics presented on the PIThy (PIT-tag Hypertool) is a web-based utility for processing and analysis of PIT-tag data from PTAGIS and (eventually) other sources. PTAGIS query export files are readily loaded and automatically processed\, removing extraneous information and adding derived and correlated attributes (such as temperature data etc. where available)\, and the processed data is presented to the user as interactive filter charts\, maps\, and fishtrack charts. The fully attributed data (or a subset) can then be exported for further analysis or archiving\, with metadata (such as PTAGIS and internal queries used) included. The design goals of PIThy include a) useability – requiring no installation and no programming\, b) reusability – facilitating PTAGIS data reuse and reproducibility within the broader community\, and c) facilitating the exploration and interpretation of complex and heterogeneous query result sets. PIThy development is at an early stage\, and many concepts in data attribution and archiving are not set in concrete but are rather put forward as starting points for further discussion. \nAgenda \n\n10:00 – Welcome and Introductions\n10:05 – Task Updates\n10:20 – Tech Talk\n11:10 – Q&A\n11:30 – Adjourn\n\nMissed a previous FMWG meeting? Check out our YouTube page for presentations or task meetings.
URL:https://pnamp.org/event/fish-monitoring-work-group-meeting-jan2023/
LOCATION:Virtual
CATEGORIES:FMWG Event,PNAMP Event
END:VEVENT
END:VCALENDAR