BEGIN:VCALENDAR
VERSION:2.0
PRODID:-//Pacific Northwest Aquatic Monitoring Partnership - ECPv6.15.20//NONSGML v1.0//EN
CALSCALE:GREGORIAN
METHOD:PUBLISH
X-ORIGINAL-URL:https://pnamp.org
X-WR-CALDESC:Events for Pacific Northwest Aquatic Monitoring Partnership
REFRESH-INTERVAL;VALUE=DURATION:PT1H
X-Robots-Tag:noindex
X-PUBLISHED-TTL:PT1H
BEGIN:VTIMEZONE
TZID:America/Denver
BEGIN:DAYLIGHT
TZOFFSETFROM:-0700
TZOFFSETTO:-0600
TZNAME:MDT
DTSTART:20220313T090000
END:DAYLIGHT
BEGIN:STANDARD
TZOFFSETFROM:-0600
TZOFFSETTO:-0700
TZNAME:MST
DTSTART:20221106T080000
END:STANDARD
BEGIN:DAYLIGHT
TZOFFSETFROM:-0700
TZOFFSETTO:-0600
TZNAME:MDT
DTSTART:20230312T090000
END:DAYLIGHT
BEGIN:STANDARD
TZOFFSETFROM:-0600
TZOFFSETTO:-0700
TZNAME:MST
DTSTART:20231105T080000
END:STANDARD
BEGIN:DAYLIGHT
TZOFFSETFROM:-0700
TZOFFSETTO:-0600
TZNAME:MDT
DTSTART:20240310T090000
END:DAYLIGHT
BEGIN:STANDARD
TZOFFSETFROM:-0600
TZOFFSETTO:-0700
TZNAME:MST
DTSTART:20241103T080000
END:STANDARD
END:VTIMEZONE
BEGIN:VEVENT
DTSTART;TZID=America/Denver:20230323T133000
DTEND;TZID=America/Denver:20230323T150000
DTSTAMP:20260421T233104
CREATED:20240813T181932Z
LAST-MODIFIED:20240813T204748Z
UID:10000014-1679578200-1679583600@pnamp.org
SUMMARY:CRBRP Toxics Monitoring Subgroup Meeting
DESCRIPTION:Agenda\n1:30—1:50 PM\, Welcome and Updates \n\nIntroductions\nToxics Monitoring Subgroup meeting schedule\nTasks for the next year\n\n1:50—2:40 PM\, Lightning Talks \n\nThe Crayfish Mercury Project\, Alan Kolok (University of Idaho)\nSoil Matters: Testing Biochar Composition in a Green Stormwater Installation\, Sarah Whitney (Long Tom Watershed Council)\nSampling for Toxic Trout in the Clark Fork River\, David Brooks (Montana Trout Unlimited)\nColumbia River Mainstem Fish Tissue and Water Quality Monitoring Program\, Sherrie Duncan (Sky Environmental)\nEvaluating and Prioritizing Contaminants of Emerging Concern in the Lower Columbia River\, Andy James (University of Washington\, Tacoma)\n\n2:40—3:00 PM\, QAPP Q&A with Meghan Dunn\, EPA \n  \nMicrosoft Teams\n\nClick here to join the meeting\n\nMeeting ID: 213 887 267 797\nPasscode: 7YmtWN\n\n\n Or call in (audio only)\n\n+1 202-640-1187\,\,751827654#\nConference ID: 751 827 654#\nFind a local number | Learn More\n\n\n\n  \n Slido Q&A\n\nClick here to open Slido\nOr go to slido.com and enter code TMS\nDuring the meeting we will use Slido instead of MS Teams Chat for questions and comments. If you’ve never used Slido\, here’s a short how-to.
URL:https://pnamp.org/event/crbrp-toxics-monitoring-subgroup-meeting-2/
LOCATION:Virtual
CATEGORIES:CRBRP TMS Event,PNAMP Event
END:VEVENT
END:VCALENDAR