BEGIN:VCALENDAR
VERSION:2.0
PRODID:-//Pacific Northwest Aquatic Monitoring Partnership - ECPv6.15.20//NONSGML v1.0//EN
CALSCALE:GREGORIAN
METHOD:PUBLISH
X-ORIGINAL-URL:https://pnamp.org
X-WR-CALDESC:Events for Pacific Northwest Aquatic Monitoring Partnership
REFRESH-INTERVAL;VALUE=DURATION:PT1H
X-Robots-Tag:noindex
X-PUBLISHED-TTL:PT1H
BEGIN:VTIMEZONE
TZID:America/Denver
BEGIN:DAYLIGHT
TZOFFSETFROM:-0700
TZOFFSETTO:-0600
TZNAME:MDT
DTSTART:20230312T090000
END:DAYLIGHT
BEGIN:STANDARD
TZOFFSETFROM:-0600
TZOFFSETTO:-0700
TZNAME:MST
DTSTART:20231105T080000
END:STANDARD
BEGIN:DAYLIGHT
TZOFFSETFROM:-0700
TZOFFSETTO:-0600
TZNAME:MDT
DTSTART:20240310T090000
END:DAYLIGHT
BEGIN:STANDARD
TZOFFSETFROM:-0600
TZOFFSETTO:-0700
TZNAME:MST
DTSTART:20241103T080000
END:STANDARD
BEGIN:DAYLIGHT
TZOFFSETFROM:-0700
TZOFFSETTO:-0600
TZNAME:MDT
DTSTART:20250309T090000
END:DAYLIGHT
BEGIN:STANDARD
TZOFFSETFROM:-0600
TZOFFSETTO:-0700
TZNAME:MST
DTSTART:20251102T080000
END:STANDARD
END:VTIMEZONE
BEGIN:VEVENT
DTSTART;TZID=America/Denver:20240118T100000
DTEND;TZID=America/Denver:20240118T113000
DTSTAMP:20260421T093541
CREATED:20240815T213505Z
LAST-MODIFIED:20240830T193912Z
UID:10000033-1705572000-1705577400@pnamp.org
SUMMARY:PNAMP Fish Monitoring Work Group Meeting (January 2024)
DESCRIPTION:The PNAMP Fish Monitoring Work Group (FMWG)\, meets quarterly to update participants on current FMWG tasks\, share expertise through presentations on innovative fish monitoring\, and provides you with opportunities to engage regional managers and experts. These meetings are an opportune time to discuss tasks and get input from members on where they see importance or could use facilitated support. The FMWG is also interested in your work; if you would like to present your innovative fish monitoring ideas or any recent publications at a future meeting please contact Meg Dethloff\, mdethloff@usgs.gov \nTech Talk: WATCH RECORDING \nPassage\, Predation\, Contamination and Supplementation: The Importance of Collaborative and Creative Research in Restoring Pacific Lamprey \nRalph Lampman\, the Lamprey Project Lead for Yakama Nation Fisheries\, will present “Passage\, Predation\, Contamination and Supplementation: The Importance of Collaborative and Creative Research in Restoring Pacific Lamprey”. Although awareness and support has generally increased in recent years for Pacific Lamprey restoration and research\, there are still many challenges for their recovery and numerous hurdles to fully understand the threats they face throughout their life history. In this presentation\, Ralph will share a few examples of recent collaborative research (in regard to passage / collection techniques\, molecular analysis of predation\, eDNA / eRNA / bile acid\, sourcing of contamination) that the Yakama Nation Fisheries and other Columbia River Inter-Tribal Fish Commission member tribes are currently working on to help make timely progress towards their recovery. Collaboration and innovation are essential in realizing this goal and we ask all entities and partners to seek and discover creative ways in which they can each contribute towards these efforts. \nAgenda \n\n10:00 – Welcome and Introductions\n10:05 – Task Updates\n10:20 – Tech Talk\n11:10 – Q&A\n11:30 – Adjourn\n\nMissed a previous FMWG meeting? Check out our YouTube page for presentations or task meetings.
URL:https://pnamp.org/event/fish-monitoring-work-group-meeting-jan2024/
LOCATION:Virtual
CATEGORIES:FMWG Event,PNAMP Event
END:VEVENT
END:VCALENDAR