BEGIN:VCALENDAR
VERSION:2.0
PRODID:-//Pacific Northwest Aquatic Monitoring Partnership - ECPv6.15.20//NONSGML v1.0//EN
CALSCALE:GREGORIAN
METHOD:PUBLISH
X-WR-CALNAME:Pacific Northwest Aquatic Monitoring Partnership
X-ORIGINAL-URL:https://pnamp.org
X-WR-CALDESC:Events for Pacific Northwest Aquatic Monitoring Partnership
REFRESH-INTERVAL;VALUE=DURATION:PT1H
X-Robots-Tag:noindex
X-PUBLISHED-TTL:PT1H
BEGIN:VTIMEZONE
TZID:America/Denver
BEGIN:DAYLIGHT
TZOFFSETFROM:-0700
TZOFFSETTO:-0600
TZNAME:MDT
DTSTART:20230312T090000
END:DAYLIGHT
BEGIN:STANDARD
TZOFFSETFROM:-0600
TZOFFSETTO:-0700
TZNAME:MST
DTSTART:20231105T080000
END:STANDARD
BEGIN:DAYLIGHT
TZOFFSETFROM:-0700
TZOFFSETTO:-0600
TZNAME:MDT
DTSTART:20240310T090000
END:DAYLIGHT
BEGIN:STANDARD
TZOFFSETFROM:-0600
TZOFFSETTO:-0700
TZNAME:MST
DTSTART:20241103T080000
END:STANDARD
BEGIN:DAYLIGHT
TZOFFSETFROM:-0700
TZOFFSETTO:-0600
TZNAME:MDT
DTSTART:20250309T090000
END:DAYLIGHT
BEGIN:STANDARD
TZOFFSETFROM:-0600
TZOFFSETTO:-0700
TZNAME:MST
DTSTART:20251102T080000
END:STANDARD
END:VTIMEZONE
BEGIN:VEVENT
DTSTART;TZID=America/Denver:20240229T093000
DTEND;TZID=America/Denver:20240229T110000
DTSTAMP:20260421T080240
CREATED:20240730T164249Z
LAST-MODIFIED:20240813T203640Z
UID:10000011-1709199000-1709204400@pnamp.org
SUMMARY:CRBRP Toxics Monitoring Subgroup Meeting
DESCRIPTION:Agenda\n9:30 – 9:35 AM\, Welcome and Introductions \n9:35 – 10:15 AM\, Screening Values \n\nPresentation and discussion of a proposed process to select Columbia Basin wide screening values for contaminants.\n\n10:15 – 10:55 AM\, Lightning Talks \n\nMercury Exposure and Bioaccumulation in the Salmon and Lower Snake Rivers\, Austin Baldwin (US Geological Survey) ​\nFreshwater Fish Contaminants Monitoring: Columbia River\, Jakub Bednarek (WA Ecology)​\nEngaging Communities to Monitor Mercury Risk in the Columbia River Basin: Intensive Application of a National Biosentinel Network at a Regional Scale\, Tiffany Garcia (Oregon State University)\n\n10:55 – 11:00 AM\, Online Resources \n\nA brief reminder of online resources that are available for current and future EPA grantees for help with QAPPs\, WQX\, and more.\n\n  \nMicrosoft Teams\n\nClick here to join the meeting\nMeeting ID: 241 572 279 474\nPasscode: XPreSf\n\nOr call in (audio only) \n\n+1 202-640-1187\nConference ID: 611 936 650#\nFind a local number | Learn More\n\n  \nSlido Polling\n\nClick here to open Slido\nOr go to slido.com and enter code TMS
URL:https://pnamp.org/event/crbrp-toxics-monitoring-subgroup-meeting/
LOCATION:Virtual
CATEGORIES:CRBRP TMS Event,PNAMP Event
END:VEVENT
END:VCALENDAR