BEGIN:VCALENDAR
VERSION:2.0
PRODID:-//Pacific Northwest Aquatic Monitoring Partnership - ECPv6.15.20//NONSGML v1.0//EN
CALSCALE:GREGORIAN
METHOD:PUBLISH
X-WR-CALNAME:Pacific Northwest Aquatic Monitoring Partnership
X-ORIGINAL-URL:https://pnamp.org
X-WR-CALDESC:Events for Pacific Northwest Aquatic Monitoring Partnership
REFRESH-INTERVAL;VALUE=DURATION:PT1H
X-Robots-Tag:noindex
X-PUBLISHED-TTL:PT1H
BEGIN:VTIMEZONE
TZID:America/Los_Angeles
BEGIN:DAYLIGHT
TZOFFSETFROM:-0800
TZOFFSETTO:-0700
TZNAME:PDT
DTSTART:20240310T100000
END:DAYLIGHT
BEGIN:STANDARD
TZOFFSETFROM:-0700
TZOFFSETTO:-0800
TZNAME:PST
DTSTART:20241103T090000
END:STANDARD
BEGIN:DAYLIGHT
TZOFFSETFROM:-0800
TZOFFSETTO:-0700
TZNAME:PDT
DTSTART:20250309T100000
END:DAYLIGHT
BEGIN:STANDARD
TZOFFSETFROM:-0700
TZOFFSETTO:-0800
TZNAME:PST
DTSTART:20251102T090000
END:STANDARD
BEGIN:DAYLIGHT
TZOFFSETFROM:-0800
TZOFFSETTO:-0700
TZNAME:PDT
DTSTART:20260308T100000
END:DAYLIGHT
BEGIN:STANDARD
TZOFFSETFROM:-0700
TZOFFSETTO:-0800
TZNAME:PST
DTSTART:20261101T090000
END:STANDARD
END:VTIMEZONE
BEGIN:VTIMEZONE
TZID:America/Denver
BEGIN:DAYLIGHT
TZOFFSETFROM:-0700
TZOFFSETTO:-0600
TZNAME:MDT
DTSTART:20240310T090000
END:DAYLIGHT
BEGIN:STANDARD
TZOFFSETFROM:-0600
TZOFFSETTO:-0700
TZNAME:MST
DTSTART:20241103T080000
END:STANDARD
BEGIN:DAYLIGHT
TZOFFSETFROM:-0700
TZOFFSETTO:-0600
TZNAME:MDT
DTSTART:20250309T090000
END:DAYLIGHT
BEGIN:STANDARD
TZOFFSETFROM:-0600
TZOFFSETTO:-0700
TZNAME:MST
DTSTART:20251102T080000
END:STANDARD
BEGIN:DAYLIGHT
TZOFFSETFROM:-0700
TZOFFSETTO:-0600
TZNAME:MDT
DTSTART:20260308T090000
END:DAYLIGHT
BEGIN:STANDARD
TZOFFSETFROM:-0600
TZOFFSETTO:-0700
TZNAME:MST
DTSTART:20261101T080000
END:STANDARD
END:VTIMEZONE
BEGIN:VEVENT
DTSTART;TZID=America/Los_Angeles:20250501T100000
DTEND;TZID=America/Los_Angeles:20250501T113000
DTSTAMP:20260421T013930
CREATED:20250313T173535Z
LAST-MODIFIED:20250505T215940Z
UID:10000088-1746093600-1746099000@pnamp.org
SUMMARY:GitHub for Data Analysis Projects - FMWG PIT Tag Data & Analysis 2025 Webinar Series
DESCRIPTION:Watch the Recording \nLink to resources shared during the presentation: GitHub Crash Course \n\nFollow along as Dr. Ben Staton gives a live tutorial on GitHub. If you are new to GitHub\, it is highly recommended that you watch Ben’s GitHub introduction from the 2025 Emerging Technologies Information Sessions (ETIS) 2025 Webinar Series\, link to the session here. This presentation will build on his introduction by diving deeper into GitHub. Join us for the second session of the FMWG PIT Tag & Data Analysis 2025 Webinar Series. \n\nLive Tutorial for Using and Navigating GitHub for Data Analysis Projects – Ben Staton; Columbia River Inter-Tribal Fish Commission\n\nEach session is 90 minutes long; we will also host an optional 30-minute “office hours” after each session where participants can get additional help from the presenters. Note\, if there are no further questions during the “office hours”\, we will conclude the session. \nSee the FMWG 2025 Webinar Series Program V2 for presentation abstracts. \n\n\nMicrosoft Teams\nJoin the meeting\nMeeting ID: 222 840 364 028 8\nPasscode: gs6H9eg6\n\n\n\nDial in by phone\n+1 202-640-1187\,\,729731836# United States\, Washington\nFind a local number\nPhone conference ID: 729 731 836#
URL:https://pnamp.org/event/github-for-data-analysis-projects-fmwg-pit-tag-data-analysis-2025-webinar-series/
LOCATION:Virtual
CATEGORIES:FMWG Event,PNAMP Event
END:VEVENT
BEGIN:VEVENT
DTSTART;TZID=America/Los_Angeles:20250508T100000
DTEND;TZID=America/Los_Angeles:20250508T113000
DTSTAMP:20260421T013930
CREATED:20250313T173801Z
LAST-MODIFIED:20250509T213318Z
UID:10000089-1746698400-1746703800@pnamp.org
SUMMARY:Applications: Clean & Organize Your PIT Tag Data - FMWG PIT Tag Data & Analysis 2025 Webinar Series
DESCRIPTION:Watch the Recording \nLinks to resources shared during the presentations:\n\nPITcleanr\nPIThy\nPIThy 2023 Presentation\nPIThy GitHub\nMarika Dobos PIThy example\nNicole Tancreto PIThy example\nBONAFF PIThy example\nAn introduction to Git and how to use it with RStudio\nNMFS Openscapes\nColumbia Cold Water Refuge PIT-Tab Analysis (GitHub)\nMapshaper (GitHub)\n\n\n\n\nYou’ve got your data and need to clean it up\, now what? Tune in as we cover some tools to help you format your data using helpful tools such as PitcleanR and PIThy\, as well as information on helpful GitHub pages. Join us for the third session in the FMWG PIT Tag & Data Analysis 2025 Webinar Series. \n\nWrangling and Preparing PIT Tag Data using PITcleanr – Kevin See; Washington Department of Fish and Wildlife\nStrategies for Bringing PTAGIS to the Masses – Brian Maschhoff; Salmonetics\n\nEach session is 90 minutes long; we will also host an optional 30-minute “office hours” after each session where participants can get additional help from the presenters. Note\, if there are no further questions during the “office hours”\, we will conclude the session. \nSee the FMWG 2025 Webinar Series Program V2 for presentation abstracts. \n\n\nMicrosoft Teams\nJoin the meeting\nMeeting ID: 281 353 821 649 8\nPasscode: Em7Eq2pJ\n\n\n\nDial in by phone\n+1 202-640-1187\,\,813562932# United States\, Washington\nFind a local number\nPhone conference ID: 813 562 932#
URL:https://pnamp.org/event/applications-clean-organize-your-pit-tag-data-fmwg-pit-tag-data-analysis-2025-webinar-series/
LOCATION:Virtual
CATEGORIES:FMWG Event,PNAMP Event
END:VEVENT
BEGIN:VEVENT
DTSTART;VALUE=DATE:20250511
DTEND;VALUE=DATE:20250516
DTSTAMP:20260421T013930
CREATED:20250401T155003Z
LAST-MODIFIED:20250401T155003Z
UID:10000092-1746921600-1747353599@pnamp.org
SUMMARY:2025 AFS Western Division and Colorado-Wyoming Chapter Annual Meeting
DESCRIPTION:2025 AFS Western Division and Colorado-Wyoming Chapter Annual Meeting \nWebsite: 2025 Annual Meeting in Westminster\, Colorado – Western Division of the American Fisheries Society \nDates: May 11-15\, 2025 \nLocation: Westin Westminster in Westminster\, Colorado \nBuilding Resilience: Investments in Fish Passage\, Habitat Restoration\, and Hatchery Modernization \nThe American Fisheries Society’s Western Division and the Colorado-Wyoming Chapter are excited to host their annual meeting on May 11-15\, 2025 in Westminster\, Colorado. The meeting theme is “Building Resilience” to highlight the substantial investments\, such as the Bipartisan Infrastructure Act\, Inflation Reduction Act\, and other funding initiatives\, that are being allocated in the US and Canada to enhance fish passage and habitat restoration projects in an effort to increase resilience in fish populations and their ecosystems. Concurrently\, government agencies and private aquaculture are focusing on modernizing existing hatcheries and designing new facilities to withstand future climate challenges. The meeting will feature an exciting plenary and sessions related to the meeting theme\, and they also welcome sessions and contributed papers and posters that advance the fisheries profession. \nAbstracts can now be submitted for a live\, in-person presentation. They are accepting presentations on any topic (contributed papers and posters) and for approved symposia. Symposia descriptions are posted on the Symposia page.  More information on abstract submissions can be found on the Abstracts page.
URL:https://pnamp.org/event/2025-afs-western-division-and-colorado-wyoming-chapter-annual-meeting/
CATEGORIES:Non-PNAMP Event
END:VEVENT
BEGIN:VEVENT
DTSTART;VALUE=DATE:20250513
DTEND;VALUE=DATE:20250516
DTSTAMP:20260421T013930
CREATED:20250325T183905Z
LAST-MODIFIED:20250325T211026Z
UID:10000079-1747123200-1747328400@pnamp.org
SUMMARY:2025 Columbia River Estuary Conference
DESCRIPTION:2025 Columbia River Estuary Conference: \nEchoes of the Estuary – Reflections for a Resilient Future\nMay 13\, 2025 • McMenamins Edgefield • Troutdale\, Oregon\nCheck out their website: Columbia River Estuary Conference 2025 | Estuary Partnership \n\nThe theme of the 2025 Columbia River Estuary Conference (CREC) is Echoes of the Estuary – Reflections for a Resilient Future. This theme weaves the deep history of indigenous stewardship and use of the lower Columbia River ecosystem with present day research and resource management which is increasingly echoing indigenous knowledge. \nIt has been 30 years since the lower Columbia River was designated an “estuary of national significance” and roughly the same since NOAA’s Pacific Ocean transect monitoring and indicators system was established. After so much investment in recovering the lower Columbia River and nearshore ocean ecosystem\, CREC provides the opportunity to take stock of our efforts and results\, to look forward and plan next steps to ensure a resilient future\, and to reconnect with each other to seek out new ideas and collaborate. What have we accomplished as a region and what have we learned? Most importantly\, how do we apply these lessons to our future actions? \nDue to travel and purchasing restrictions on federal employees\, this year’s conference will be held within the Portland Metropolitan Area. It will be an all-day event with technical presentations\, a poster session\, and an evening social. \nMcMenamins Edgefield is holding a room block for attendees until March 28: use the code 2505LOWERC to be part of the block. \nAn additional one-day gathering will be held in October\, details TBA. \n\n\nThey are seeking sponsorships to support the conference. Contact Catherine Corbett at 971-380-3629 or by email for sponsorship levels and benefits.
URL:https://pnamp.org/event/2025-columbia-river-estuary-conference/
CATEGORIES:Non-PNAMP Event
END:VEVENT
BEGIN:VEVENT
DTSTART;TZID=America/Los_Angeles:20250515T100000
DTEND;TZID=America/Los_Angeles:20250515T113000
DTSTAMP:20260421T013930
CREATED:20250313T173956Z
LAST-MODIFIED:20250519T223254Z
UID:10000090-1747303200-1747308600@pnamp.org
SUMMARY:Columbia Basin Research: Data Access in Real Time and Tools - FMWG PIT Tag Data & Analysis 2025 Webinar Series
DESCRIPTION:Watch the Recording \nLinks to resources shared during the presentations \n\nColumbia Basin Research (CBR)\nColumbia River DART (Data Access in Real Time)\nTools | Columbia Basin Research\nDART PIT Tag Life Stage Filter\nDART PIT Tag ESU (Evolutionarily Significant Unit) and DPS (Distinct Population Segment) Filter and Glossary\nDART PIT Tag Transportation Filter\nDART Metadata\, Glossaries\, and Methods\nDART PIT Tag Columbia Basin ESU & DPS Graphics & Text\nDART PIT Tag Adult Returns by Observation Year Detail\nDART PIT Tag DART-specific file_id (.DART[N])\nDART PIT Tag Adult Returns by Observation Site Historical Run Timing\nDART PIT Tag Adult Returns Conversion Rate\nDART PIT Tag Columbia Basin ESU & DPS Smolt-to-Adult Return (SAR) Survival\nDART Lower Granite Bypass and Spillway Analyses\nDART PIT Tag Release and Observation Summary for Generating Survival and Travel Time Estimates with Tag File Selection\nDART PIT Tag Juvenile Survival and Travel Time Estimates Methods\nDART PIT Tag Upload TagID List Analysis and Reporting\nPitPro webpage\n\n\nColumbia Basin Research experts will lead us through the Data Access in Real Time (DART) site and some of their analysis tools for use with mark-recapture data and an in-depth look at the PIT-tag processing tool\, PitPro. Join us for the fourth session in the FMWG PIT Tag & Data Analysis 2025 Webinar Series. \nThe session features a two-part presentation with opportunities for Q&A interspersed:\n\nPart 1. Columbia Basin Research Data Access in Real Time (DART) – Susannah Iltis\, Matt Carter\, and Jennifer Gosselin\, Columbia Basin Research\, School of Aquatic and Fishery Sciences\, University of Washington\nPart 2. Columbia Basin Research Mark and Recapture Tools – Rich Townsend and Rebecca Buchanan\, Columbia Basin Research\, School of Aquatic and Fishery Sciences\, University of Washington\n\n\n\nEach session is 90 minutes long; we will also host an optional 30-minute “office hours” after each session where participants can get additional help from the presenters. Note\, if there are no further questions during the “office hours”\, we will conclude the session. \nSee the FMWG 2025 Webinar Series Program V2 for presentation abstracts. \n\n\nMicrosoft Teams\nJoin the meeting\nMeeting ID: 258 873 165 738 8\nPasscode: Sp6G228K\n\n\n\nDial in by phone\n+1 202-640-1187\,\,449412563# United States\, Washington\nFind a local number\nPhone conference ID: 449 412 563#
URL:https://pnamp.org/event/columbia-basin-research-data-access-in-real-time-and-tools-fmwg-pit-tag-data-analysis-2025-webinar-series/
LOCATION:Virtual
CATEGORIES:FMWG Event,PNAMP Event
END:VEVENT
BEGIN:VEVENT
DTSTART;TZID=America/Los_Angeles:20250522T100000
DTEND;TZID=America/Los_Angeles:20250522T113000
DTSTAMP:20260421T013930
CREATED:20250313T174549Z
LAST-MODIFIED:20250530T161513Z
UID:10000091-1747908000-1747913400@pnamp.org
SUMMARY:Beyond PTAGIS: More on applying R and Other Regional PIT Tag Systems - FMWG PIT Tag Data & Analysis 2025 Webinar Series
DESCRIPTION:Watch the Recording \nLinks to resources shared during the presentations \n\ntidyr cheatsheet: https://rstudio.github.io/cheatsheets/tidyr.pdf\ndplyr cheatsheet: https://nyu-cdsc.github.io/learningr/assets/data-transformation.pdf\nggplot2 cheatsheet: https://github.com/rstudio/cheatsheets/blob/main/data-visualization.pdf\nR Graph Gallery: https://r-graph-gallery.com/\nAccessible Color Palette Generator: https://venngage.com/tools/accessible-color-palette-generator\ngoogle “hex colors” to find your own colors and make custom color palettes\nMapping basics: SFS GIS R | Basic Mapping\nEPSG codes: Spatial Reference List — Spatial Reference\nsf library github: Simple Features for R • sf\nsf library cheatsheet: cheatsheets/sf.pdf at main · rstudio/cheatsheets · GitHub\npch shape codes: https://www.sthda.com/english/wiki/r-plot-pch-symbols-the-different-point-shapes-available-in-r?title=r-plot-pch-symbols-the-different-point-shapes-available-in-r\nLeaflet:  Interactive maps with leaflet in R [Complete Guide] | R CHARTS\nR for data science: R for Data Science (2e)\nKlamath Basin Fisheries Collaborative\nPacific Salmon Foundation Dashboards\n\n\nReady to turbocharge your research? Dive into the world of R\, the open-source programming language that’s revolutionizing how scientists work. Whether you’re a budding biologist or a seasoned pro\, our dynamic webinar is your ticket to mastering R. To wrap up the series\, we’ve invited a few folks from other regional systems to give us a brief overview of some of their tools. Join us for the fifth and final session in the FMWG PIT Tag & Data Analysis 2025 Webinar Series. \n\nBeyond PTAGIS: Using R for biological data management\, visualization\, and reporting – Jennifer Fredrickson\, Jennifer Rowe; U.S. Geological Survey Forest and Rangeland Ecosystem Science Center\nLIGHTNING TALKS:\n\nKlamath Basin Fisheries Collaborative Database – Monica Diaz\, Pacific States Marine Fisheries Commission\nBottlenecks to Survival Data System & Orphan Tag Database – Brahm White-Gluz\, Pacific Salmon Foundation\nUsing PIT tags to guide salmon recovery in the Green River – Chris Gregersen\, King County\n\n\n\nEach session is 90 minutes long; we will also host an optional 30-minute “office hours” after each session where participants can get additional help from the presenters. Note\, if there are no further questions during the “office hours”\, we will conclude the session. \nSee the FMWG 2025 Webinar Series Program V2 for presentation abstracts. \n\n\nMicrosoft Teams\nJoin the meeting\nMeeting ID: 294 444 747 761 9\nPasscode: MH23ct9S\n\n\n\nDial in by phone\n+1 202-640-1187\,\,790235998# United States\, Washington\nFind a local number\nPhone conference ID: 790 235 998#
URL:https://pnamp.org/event/beyond-ptagis-more-on-applying-r-and-other-regional-pit-tag-systems-fmwg-pit-tag-data-analysis-2025-webinar-series/
LOCATION:Virtual
CATEGORIES:FMWG Event,PNAMP Event
END:VEVENT
END:VCALENDAR