BEGIN:VCALENDAR
VERSION:2.0
PRODID:-//Pacific Northwest Aquatic Monitoring Partnership - ECPv6.15.20//NONSGML v1.0//EN
CALSCALE:GREGORIAN
METHOD:PUBLISH
X-ORIGINAL-URL:https://pnamp.org
X-WR-CALDESC:Events for Pacific Northwest Aquatic Monitoring Partnership
REFRESH-INTERVAL;VALUE=DURATION:PT1H
X-Robots-Tag:noindex
X-PUBLISHED-TTL:PT1H
BEGIN:VTIMEZONE
TZID:America/Los_Angeles
BEGIN:DAYLIGHT
TZOFFSETFROM:-0800
TZOFFSETTO:-0700
TZNAME:PDT
DTSTART:20250309T100000
END:DAYLIGHT
BEGIN:STANDARD
TZOFFSETFROM:-0700
TZOFFSETTO:-0800
TZNAME:PST
DTSTART:20251102T090000
END:STANDARD
BEGIN:DAYLIGHT
TZOFFSETFROM:-0800
TZOFFSETTO:-0700
TZNAME:PDT
DTSTART:20260308T100000
END:DAYLIGHT
BEGIN:STANDARD
TZOFFSETFROM:-0700
TZOFFSETTO:-0800
TZNAME:PST
DTSTART:20261101T090000
END:STANDARD
BEGIN:DAYLIGHT
TZOFFSETFROM:-0800
TZOFFSETTO:-0700
TZNAME:PDT
DTSTART:20270314T100000
END:DAYLIGHT
BEGIN:STANDARD
TZOFFSETFROM:-0700
TZOFFSETTO:-0800
TZNAME:PST
DTSTART:20271107T090000
END:STANDARD
END:VTIMEZONE
BEGIN:VEVENT
DTSTART;TZID=America/Los_Angeles:20261015T100000
DTEND;TZID=America/Los_Angeles:20261015T113000
DTSTAMP:20260421T034732
CREATED:20260128T194650Z
LAST-MODIFIED:20260128T195233Z
UID:10000181-1792058400-1792063800@pnamp.org
SUMMARY:PNAMP Fish Monitoring Work Group (October 2026)
DESCRIPTION:Join us at 10:00 am (PDT) on Thursday\, October 15th for the next meeting of the PNAMP Fish Monitoring Work Group (FMWG). During the meeting\, we will update participants on current tasks\, hear a presentation about innovative fish monitoring\, and provide you with opportunities to engage regional managers and experts. These meetings are an opportune time to discuss tasks and get input from members on where they see importance or could use facilitated support. \nTech Talk: TBD \nAgenda \n\n10:00 – Welcome and Introductions\n10:05 – Task Updates\n10:20 – Tech Talk\n11:10 – Q&A\n11:30 – Adjourn\n\nClick link below to join on October 15th \n\n\nMicrosoft Teams Need help?\n\nJoin the meeting on October 15th\nMeeting ID: 233 720 630 552 0\nPasscode: RR9Qf7Tr\n\n\n\nDial in by phone\n+1 207-387-0436\,\,64429963# United States\, Portland\nFind a local number\nPhone conference ID: 644 299 63#\n\n\n\n\n\n\n\nNever been to a FMWG meeting? This meeting is a perfect time to learn about the project\, join in\, and help guide future work. \nMissed a previous FMWG meeting? Check out our YouTube page for presentations or task meetings. \n\nThe PNAMP Fish Monitoring Work Group (FMWG)\, meets quarterly to discuss task progress\, share expertise through guest presentations\, and support collaboration\, communication\, and coordination among fish monitoring practitioners for effective monitoring and efficient data sharing. The FMWG is also interested in your work; if you would like to present your innovative fish monitoring ideas or any recent publications at a future meeting please contact Meg Dethloff\, mdethloff@psmfc.org
URL:https://pnamp.org/event/pnamp-fish-monitoring-work-group-october-2026/
LOCATION:Virtual
CATEGORIES:FMWG Event,PNAMP Event
END:VEVENT
BEGIN:VEVENT
DTSTART;TZID=America/Los_Angeles:20261026T080000
DTEND;TZID=America/Los_Angeles:20261028T170000
DTSTAMP:20260421T034732
CREATED:20251110T214655Z
LAST-MODIFIED:20260325T185658Z
UID:10000142-1793001600-1793206800@pnamp.org
SUMMARY:2026 Emerging Technologies Information Sessions
DESCRIPTION:The Emerging Technologies Information Sessions (ETIS) Project brings together monitoring professionals\, project managers\, data collectors\, data managers\, and data consumers from all over the world to showcase the latest technologies and innovative techniques in ecological monitoring.\nDetails\n\n\n\n\n\n\n\n\n\nWho: Monitoring Professionals\, Project Managers\, Data Collectors\, Data Managers\, and Data Consumers \n\nWhat: The Emerging Technologies Information Sessions (ETIS) is a bi-annual event that promotes the latest technologies and best practices in ecological monitoring and data discovery. \n\nWhere: Skamania Lodge – Stevenson\, Washington\, USA \n\n\nWhen: October 26-28\, 2026 \n\nSpecifics: You can track this event through the ETIS Project Page and from regular updates in the PNAMP Newsletter. \n\nAbstract Submission Period is Open: Submission Form\n\nAbstract Deadline: May 31\, 2026\n\n\nLodging: Rooms at the GSA Rate of $155/night plus taxes and fees. There will be a room block at Skamania Lodge for this event\, and it is first come/first serve. When the room block is full no other discounted rooms are available.\n\nReservations for the room block can be made HERE or by calling 844-432-4748.\n\n\nSponsorship an Exhibitor Commitment: March 31\, 2026\nRegistration Opens: TBD\n\n 
URL:https://pnamp.org/event/2026-etis/
LOCATION:Skamania Lodge\, 1131 SW Skamania Lodge Way\, Stevenson\, WA\, 98648\, United States
CATEGORIES:ETIS Event,PNAMP Event
END:VEVENT
END:VCALENDAR